OziExplorer Map Data File Version 2.2
O-35-35
C:\strorry\Maps\Genshtab_2k\o-35-35.ozfx3
1 ,Map Code,
Pulkovo 1942 (1),WGS 84, 0.0000, 0.0000,WGS 84
Reserved 1
Reserved 2
Magnetic Variation,,,E
Map Projection,Transverse Mercator,PolyCal,No,AutoCalOnly,No,BSBUseWPX,No
Point01,xy, 95, 188,in, deg, 56,40.00002,N, 28, 0,E, grid, , , ,N
Point02,xy, 2511, 173,in, deg, 56,40.00002,N, 29, 0,E, grid, , , ,N
Point03,xy, 2549, 3136,in, deg, 56, 0,N, 29, 0,E, grid, , , ,N
Point04,xy, 95, 3151,in, deg, 56, 0,N, 28, 0,E, grid, , , ,N
Point05,xy, 1314, 1667,in, deg, 56,19.99998,N, 28, 30,E, grid, , , ,N
Point06,xy, 1304, 185,in, deg, 56,40.00002,N, 28, 30,E, grid, , , ,N
Point07,xy, 94, 1673,in, deg, 56,19.99998,N, 28, 0,E, grid, , , ,N
Point08,xy, 2530, 1653,in, deg, 56,19.99998,N, 29, 0,E, grid, , , ,N
Point09,xy, 1323, 3148,in, deg, 56, 0,N, 28, 30,E, grid, , , ,N
Point10,xy, , ,in, deg, , ,N, , ,W, grid, , , ,N
Point11,xy, , ,in, deg, , ,N, , ,W, grid, , , ,N
Point12,xy, , ,in, deg, , ,N, , ,W, grid, , , ,N
Point13,xy, , ,in, deg, , ,N, , ,W, grid, , , ,N
Point14,xy, , ,in, deg, , ,N, , ,W, grid, , , ,N
Point15,xy, , ,in, deg, , ,N, , ,W, grid, , , ,N
Point16,xy, , ,in, deg, , ,N, , ,W, grid, , , ,N
Point17,xy, , ,in, deg, , ,N, , ,W, grid, , , ,N
Point18,xy, , ,in, deg, , ,N, , ,W, grid, , , ,N
Point19,xy, , ,in, deg, , ,N, , ,W, grid, , , ,N
Point20,xy, , ,in, deg, , ,N, , ,W, grid, , , ,N
Point21,xy, , ,in, deg, , ,N, , ,W, grid, , , ,N
Point22,xy, , ,in, deg, , ,N, , ,W, grid, , , ,N
Point23,xy, , ,in, deg, , ,N, , ,W, grid, , , ,N
Point24,xy, , ,in, deg, , ,N, , ,W, grid, , , ,N
Point25,xy, , ,in, deg, , ,N, , ,W, grid, , , ,N
Point26,xy, , ,in, deg, , ,N, , ,W, grid, , , ,N
Point27,xy, , ,in, deg, , ,N, , ,W, grid, , , ,N
Point28,xy, , ,in, deg, , ,N, , ,W, grid, , , ,N
Point29,xy, , ,in, deg, , ,N, , ,W, grid, , , ,N
Point30,xy, , ,in, deg, , ,N, , ,W, grid, , , ,N
Projection Setup, 0.000000000, 27.000000000, 1.000000000, 5500000.00, 0.00,,,,,
Map Feature = MF ; Map Comment = MC These follow if they exist
Track File = TF These follow if they exist
Moving Map Parameters = MM? These follow if they exist
MM0,Yes
MMPNUM,4
MMPXY,1,95,188
MMPXY,2,2511,173
MMPXY,3,2549,3136
MMPXY,4,95,3151
MMPLL,1,28.000000 , 56.666667
MMPLL,2,29.000000 , 56.666667
MMPLL,3,29.000000 , 56.000000
MMPLL,4,28.000000 , 56.000000
MM1B,25.388115
MOP,Map Open Position,0,0
IWH,Map Image Width/Height,2642,3484
