OziExplorer Map Data File Version 2.2
O-35-34
C:\strorry\Maps\Genshtab_2k\o-35-34.ozfx3
1 ,Map Code,
Pulkovo 1942 (1),WGS 84, 0.0000, 0.0000,WGS 84
Reserved 1
Reserved 2
Magnetic Variation,,,E
Map Projection,Transverse Mercator,PolyCal,No,AutoCalOnly,No,BSBUseWPX,No
Point01,xy, 218, 143,in, deg, 56,40.00002,N, 27, 0,E, grid, , , ,N
Point02,xy, 3843, 193,in, deg, 56,40.00002,N, 28, 0,E, grid, , , ,N
Point03,xy, 3806, 4576,in, deg, 56, 0,N, 28, 0,E, grid, , , ,N
Point04,xy, 124, 4522,in, deg, 56, 0,N, 27, 0,E, grid, , , ,N
Point05,xy, 1998, 2369,in, deg, 56,19.99998,N, 27, 30,E, grid, , , ,N
Point06,xy, 2029, 174,in, deg, 56,40.00002,N, 27, 30,E, grid, , , ,N
Point07,xy, 172, 2339,in, deg, 56,19.99998,N, 27, 0,E, grid, , , ,N
Point08,xy, 3825, 2387,in, deg, 56,19.99998,N, 28, 0,E, grid, , , ,N
Point09,xy, 1966, 4556,in, deg, 56, 0,N, 27, 30,E, grid, , , ,N
Point10,xy, , ,in, deg, , ,N, , ,W, grid, , , ,N
Point11,xy, , ,in, deg, , ,N, , ,W, grid, , , ,N
Point12,xy, , ,in, deg, , ,N, , ,W, grid, , , ,N
Point13,xy, , ,in, deg, , ,N, , ,W, grid, , , ,N
Point14,xy, , ,in, deg, , ,N, , ,W, grid, , , ,N
Point15,xy, , ,in, deg, , ,N, , ,W, grid, , , ,N
Point16,xy, , ,in, deg, , ,N, , ,W, grid, , , ,N
Point17,xy, , ,in, deg, , ,N, , ,W, grid, , , ,N
Point18,xy, , ,in, deg, , ,N, , ,W, grid, , , ,N
Point19,xy, , ,in, deg, , ,N, , ,W, grid, , , ,N
Point20,xy, , ,in, deg, , ,N, , ,W, grid, , , ,N
Point21,xy, , ,in, deg, , ,N, , ,W, grid, , , ,N
Point22,xy, , ,in, deg, , ,N, , ,W, grid, , , ,N
Point23,xy, , ,in, deg, , ,N, , ,W, grid, , , ,N
Point24,xy, , ,in, deg, , ,N, , ,W, grid, , , ,N
Point25,xy, , ,in, deg, , ,N, , ,W, grid, , , ,N
Point26,xy, , ,in, deg, , ,N, , ,W, grid, , , ,N
Point27,xy, , ,in, deg, , ,N, , ,W, grid, , , ,N
Point28,xy, , ,in, deg, , ,N, , ,W, grid, , , ,N
Point29,xy, , ,in, deg, , ,N, , ,W, grid, , , ,N
Point30,xy, , ,in, deg, , ,N, , ,W, grid, , , ,N
Projection Setup, 0.000000000, 27.000000000, 1.000000000, 5500000.00, 0.00,,,,,
Map Feature = MF ; Map Comment = MC These follow if they exist
Track File = TF These follow if they exist
Moving Map Parameters = MM? These follow if they exist
MM0,Yes
MMPNUM,4
MMPXY,1,218,143
MMPXY,2,3843,193
MMPXY,3,3806,4576
MMPXY,4,124,4522
MMPLL,1,27.000000 , 56.666667
MMPLL,2,28.000000 , 56.666667
MMPLL,3,28.000000 , 56.000000
MMPLL,4,27.000000 , 56.000000
MM1B,16.918932
MOP,Map Open Position,0,0
IWH,Map Image Width/Height,3991,4711
