OziExplorer Map Data File Version 2.2
N-36-27
C:\strorry\Maps\Genshtab_2k\n-36-27.ozfx3
1 ,Map Code,
Pulkovo 1942 (1),WGS 84, 0.0000, 0.0000,WGS 84
Reserved 1
Reserved 2
Magnetic Variation,,,E
Map Projection,Transverse Mercator,PolyCal,No,AutoCalOnly,No,BSBUseWPX,No
Point01,xy, 216, 206,in, deg, 53,19.99998,N, 32, 0,E, grid, , , ,N
Point02,xy, 4141, 200,in, deg, 53,19.99998,N, 33, 0,E, grid, , , ,N
Point03,xy, 4176, 4582,in, deg, 52,40.00002,N, 33, 0,E, grid, , , ,N
Point04,xy, 189, 4586,in, deg, 52,40.00002,N, 32, 0,E, grid, , , ,N
Point05,xy, 2181, 2403,in, deg, 53, 0,N, 32, 30,E, grid, , , ,N
Point06,xy, 2178, 212,in, deg, 53,19.99998,N, 32, 30,E, grid, , , ,N
Point07,xy, 202, 2397,in, deg, 53, 0,N, 32, 0,E, grid, , , ,N
Point08,xy, 4158, 2390,in, deg, 53, 0,N, 33, 0,E, grid, , , ,N
Point09,xy, 2182, 4592,in, deg, 52,40.00002,N, 32, 30,E, grid, , , ,N
Point10,xy, , ,in, deg, , ,N, , ,W, grid, , , ,N
Point11,xy, , ,in, deg, , ,N, , ,W, grid, , , ,N
Point12,xy, , ,in, deg, , ,N, , ,W, grid, , , ,N
Point13,xy, , ,in, deg, , ,N, , ,W, grid, , , ,N
Point14,xy, , ,in, deg, , ,N, , ,W, grid, , , ,N
Point15,xy, , ,in, deg, , ,N, , ,W, grid, , , ,N
Point16,xy, , ,in, deg, , ,N, , ,W, grid, , , ,N
Point17,xy, , ,in, deg, , ,N, , ,W, grid, , , ,N
Point18,xy, , ,in, deg, , ,N, , ,W, grid, , , ,N
Point19,xy, , ,in, deg, , ,N, , ,W, grid, , , ,N
Point20,xy, , ,in, deg, , ,N, , ,W, grid, , , ,N
Point21,xy, , ,in, deg, , ,N, , ,W, grid, , , ,N
Point22,xy, , ,in, deg, , ,N, , ,W, grid, , , ,N
Point23,xy, , ,in, deg, , ,N, , ,W, grid, , , ,N
Point24,xy, , ,in, deg, , ,N, , ,W, grid, , , ,N
Point25,xy, , ,in, deg, , ,N, , ,W, grid, , , ,N
Point26,xy, , ,in, deg, , ,N, , ,W, grid, , , ,N
Point27,xy, , ,in, deg, , ,N, , ,W, grid, , , ,N
Point28,xy, , ,in, deg, , ,N, , ,W, grid, , , ,N
Point29,xy, , ,in, deg, , ,N, , ,W, grid, , , ,N
Point30,xy, , ,in, deg, , ,N, , ,W, grid, , , ,N
Projection Setup, 0.000000000, 33.000000000, 1.000000000, 6500000.00, 0.00,,,,,
Map Feature = MF ; Map Comment = MC These follow if they exist
Track File = TF These follow if they exist
Moving Map Parameters = MM? These follow if they exist
MM0,Yes
MMPNUM,4
MMPXY,1,216,206
MMPXY,2,4141,200
MMPXY,3,4176,4582
MMPXY,4,189,4586
MMPLL,1,32.000000 , 53.333333
MMPLL,2,33.000000 , 53.333333
MMPLL,3,33.000000 , 52.666667
MMPLL,4,32.000000 , 52.666667
MM1B,16.963848
MOP,Map Open Position,0,0
IWH,Map Image Width/Height,4308,4704
