OziExplorer Map Data File Version 2.2
N-36-21
C:\strorry\Maps\Genshtab_2k\n-36-21.ozfx3
1 ,Map Code,
Pulkovo 1942 (1),WGS 84, 0.0000, 0.0000,WGS 84
Reserved 1
Reserved 2
Magnetic Variation,,,E
Map Projection,Transverse Mercator,PolyCal,No,AutoCalOnly,No,BSBUseWPX,No
Point01,xy, 156, 219,in, deg, 54, 0,N, 32, 0,E, grid, , , ,N
Point02,xy, 4028, 220,in, deg, 54, 0,N, 33, 0,E, grid, , , ,N
Point03,xy, 4057, 4599,in, deg, 53,19.99998,N, 33, 0,E, grid, , , ,N
Point04,xy, 123, 4600,in, deg, 53,19.99998,N, 32, 0,E, grid, , , ,N
Point05,xy, 2090, 2420,in, deg, 53,40.00002,N, 32, 30,E, grid, , , ,N
Point06,xy, 2092, 225,in, deg, 54, 0,N, 32, 30,E, grid, , , ,N
Point07,xy, 138, 2413,in, deg, 53,40.00002,N, 32, 0,E, grid, , , ,N
Point08,xy, 4043, 2412,in, deg, 53,40.00002,N, 33, 0,E, grid, , , ,N
Point09,xy, 2090, 4609,in, deg, 53,19.99998,N, 32, 30,E, grid, , , ,N
Point10,xy, , ,in, deg, , ,N, , ,W, grid, , , ,N
Point11,xy, , ,in, deg, , ,N, , ,W, grid, , , ,N
Point12,xy, , ,in, deg, , ,N, , ,W, grid, , , ,N
Point13,xy, , ,in, deg, , ,N, , ,W, grid, , , ,N
Point14,xy, , ,in, deg, , ,N, , ,W, grid, , , ,N
Point15,xy, , ,in, deg, , ,N, , ,W, grid, , , ,N
Point16,xy, , ,in, deg, , ,N, , ,W, grid, , , ,N
Point17,xy, , ,in, deg, , ,N, , ,W, grid, , , ,N
Point18,xy, , ,in, deg, , ,N, , ,W, grid, , , ,N
Point19,xy, , ,in, deg, , ,N, , ,W, grid, , , ,N
Point20,xy, , ,in, deg, , ,N, , ,W, grid, , , ,N
Point21,xy, , ,in, deg, , ,N, , ,W, grid, , , ,N
Point22,xy, , ,in, deg, , ,N, , ,W, grid, , , ,N
Point23,xy, , ,in, deg, , ,N, , ,W, grid, , , ,N
Point24,xy, , ,in, deg, , ,N, , ,W, grid, , , ,N
Point25,xy, , ,in, deg, , ,N, , ,W, grid, , , ,N
Point26,xy, , ,in, deg, , ,N, , ,W, grid, , , ,N
Point27,xy, , ,in, deg, , ,N, , ,W, grid, , , ,N
Point28,xy, , ,in, deg, , ,N, , ,W, grid, , , ,N
Point29,xy, , ,in, deg, , ,N, , ,W, grid, , , ,N
Point30,xy, , ,in, deg, , ,N, , ,W, grid, , , ,N
Projection Setup, 0.000000000, 33.000000000, 1.000000000, 6500000.00, 0.00,,,,,
Map Feature = MF ; Map Comment = MC These follow if they exist
Track File = TF These follow if they exist
Moving Map Parameters = MM? These follow if they exist
MM0,Yes
MMPNUM,4
MMPXY,1,156,219
MMPXY,2,4028,220
MMPXY,3,4057,4599
MMPXY,4,123,4600
MMPLL,1,32.000000 , 54.000000
MMPLL,2,33.000000 , 54.000000
MMPLL,3,33.000000 , 53.333333
MMPLL,4,32.000000 , 53.333333
MM1B,16.925466
MOP,Map Open Position,0,0
IWH,Map Image Width/Height,4180,4890
