OziExplorer Map Data File Version 2.2
N-36-20
C:\strorry\Maps\Genshtab_2k\n-36-20.ozfx3
1 ,Map Code,
Pulkovo 1942 (1),WGS 84, 0.0000, 0.0000,WGS 84
Reserved 1
Reserved 2
Magnetic Variation,,,E
Map Projection,Transverse Mercator,PolyCal,No,AutoCalOnly,No,BSBUseWPX,No
Point01,xy, 183, 244,in, deg, 54, 0,N, 31, 0,E, grid, , , ,N
Point02,xy, 4047, 223,in, deg, 54, 0,N, 32, 0,E, grid, , , ,N
Point03,xy, 4098, 4607,in, deg, 53,19.99998,N, 32, 0,E, grid, , , ,N
Point04,xy, 169, 4630,in, deg, 53,19.99998,N, 31, 0,E, grid, , , ,N
Point05,xy, 2124, 2434,in, deg, 53,40.00002,N, 31, 30,E, grid, , , ,N
Point06,xy, 2116, 241,in, deg, 54, 0,N, 31, 30,E, grid, , , ,N
Point07,xy, 176, 2437,in, deg, 53,40.00002,N, 31, 0,E, grid, , , ,N
Point08,xy, 4071, 2415,in, deg, 53,40.00002,N, 32, 0,E, grid, , , ,N
Point09,xy, 2134, 4626,in, deg, 53,19.99998,N, 31, 30,E, grid, , , ,N
Point10,xy, , ,in, deg, , ,N, , ,W, grid, , , ,N
Point11,xy, , ,in, deg, , ,N, , ,W, grid, , , ,N
Point12,xy, , ,in, deg, , ,N, , ,W, grid, , , ,N
Point13,xy, , ,in, deg, , ,N, , ,W, grid, , , ,N
Point14,xy, , ,in, deg, , ,N, , ,W, grid, , , ,N
Point15,xy, , ,in, deg, , ,N, , ,W, grid, , , ,N
Point16,xy, , ,in, deg, , ,N, , ,W, grid, , , ,N
Point17,xy, , ,in, deg, , ,N, , ,W, grid, , , ,N
Point18,xy, , ,in, deg, , ,N, , ,W, grid, , , ,N
Point19,xy, , ,in, deg, , ,N, , ,W, grid, , , ,N
Point20,xy, , ,in, deg, , ,N, , ,W, grid, , , ,N
Point21,xy, , ,in, deg, , ,N, , ,W, grid, , , ,N
Point22,xy, , ,in, deg, , ,N, , ,W, grid, , , ,N
Point23,xy, , ,in, deg, , ,N, , ,W, grid, , , ,N
Point24,xy, , ,in, deg, , ,N, , ,W, grid, , , ,N
Point25,xy, , ,in, deg, , ,N, , ,W, grid, , , ,N
Point26,xy, , ,in, deg, , ,N, , ,W, grid, , , ,N
Point27,xy, , ,in, deg, , ,N, , ,W, grid, , , ,N
Point28,xy, , ,in, deg, , ,N, , ,W, grid, , , ,N
Point29,xy, , ,in, deg, , ,N, , ,W, grid, , , ,N
Point30,xy, , ,in, deg, , ,N, , ,W, grid, , , ,N
Projection Setup, 0.000000000, 33.000000000, 1.000000000, 6500000.00, 0.00,,,,,
Map Feature = MF ; Map Comment = MC These follow if they exist
Track File = TF These follow if they exist
Moving Map Parameters = MM? These follow if they exist
MM0,Yes
MMPNUM,4
MMPXY,1,183,244
MMPXY,2,4047,223
MMPXY,3,4098,4607
MMPXY,4,169,4630
MMPLL,1,31.000000 , 54.000000
MMPLL,2,32.000000 , 54.000000
MMPLL,3,32.000000 , 53.333333
MMPLL,4,31.000000 , 53.333333
MM1B,16.954796
MOP,Map Open Position,0,0
IWH,Map Image Width/Height,4242,4692
