OziExplorer Map Data File Version 2.2
N-36-14
C:\strorry\Maps\Genshtab_2k\n-36-14.ozfx3
1 ,Map Code,
Pulkovo 1942 (1),WGS 84, 0.0000, 0.0000,WGS 84
Reserved 1
Reserved 2
Magnetic Variation,,,E
Map Projection,Transverse Mercator,PolyCal,No,AutoCalOnly,No,BSBUseWPX,No
Point01,xy, 213, 167,in, deg, 54,40.00002,N, 31, 0,E, grid, , , ,N
Point02,xy, 4014, 162,in, deg, 54,40.00002,N, 32, 0,E, grid, , , ,N
Point03,xy, 4045, 4547,in, deg, 54, 0,N, 32, 0,E, grid, , , ,N
Point04,xy, 185, 4553,in, deg, 54, 0,N, 31, 0,E, grid, , , ,N
Point05,xy, 2114, 2366,in, deg, 54,19.99998,N, 31, 30,E, grid, , , ,N
Point06,xy, 2114, 170,in, deg, 54,40.00002,N, 31, 30,E, grid, , , ,N
Point07,xy, 200, 2362,in, deg, 54,19.99998,N, 31, 0,E, grid, , , ,N
Point08,xy, 4030, 2356,in, deg, 54,19.99998,N, 32, 0,E, grid, , , ,N
Point09,xy, 2113, 4558,in, deg, 54, 0,N, 31, 30,E, grid, , , ,N
Point10,xy, , ,in, deg, , ,N, , ,W, grid, , , ,N
Point11,xy, , ,in, deg, , ,N, , ,W, grid, , , ,N
Point12,xy, , ,in, deg, , ,N, , ,W, grid, , , ,N
Point13,xy, , ,in, deg, , ,N, , ,W, grid, , , ,N
Point14,xy, , ,in, deg, , ,N, , ,W, grid, , , ,N
Point15,xy, , ,in, deg, , ,N, , ,W, grid, , , ,N
Point16,xy, , ,in, deg, , ,N, , ,W, grid, , , ,N
Point17,xy, , ,in, deg, , ,N, , ,W, grid, , , ,N
Point18,xy, , ,in, deg, , ,N, , ,W, grid, , , ,N
Point19,xy, , ,in, deg, , ,N, , ,W, grid, , , ,N
Point20,xy, , ,in, deg, , ,N, , ,W, grid, , , ,N
Point21,xy, , ,in, deg, , ,N, , ,W, grid, , , ,N
Point22,xy, , ,in, deg, , ,N, , ,W, grid, , , ,N
Point23,xy, , ,in, deg, , ,N, , ,W, grid, , , ,N
Point24,xy, , ,in, deg, , ,N, , ,W, grid, , , ,N
Point25,xy, , ,in, deg, , ,N, , ,W, grid, , , ,N
Point26,xy, , ,in, deg, , ,N, , ,W, grid, , , ,N
Point27,xy, , ,in, deg, , ,N, , ,W, grid, , , ,N
Point28,xy, , ,in, deg, , ,N, , ,W, grid, , , ,N
Point29,xy, , ,in, deg, , ,N, , ,W, grid, , , ,N
Point30,xy, , ,in, deg, , ,N, , ,W, grid, , , ,N
Projection Setup, 0.000000000, 33.000000000, 1.000000000, 6500000.00, 0.00,,,,,
Map Feature = MF ; Map Comment = MC These follow if they exist
Track File = TF These follow if they exist
Moving Map Parameters = MM? These follow if they exist
MM0,Yes
MMPNUM,4
MMPXY,1,213,167
MMPXY,2,4014,162
MMPXY,3,4045,4547
MMPXY,4,185,4553
MMPLL,1,31.000000 , 54.666667
MMPLL,2,32.000000 , 54.666667
MMPLL,3,32.000000 , 54.000000
MMPLL,4,31.000000 , 54.000000
MM1B,16.973927
MOP,Map Open Position,0,0
IWH,Map Image Width/Height,4206,4704
