OziExplorer Map Data File Version 2.2
N-36-07
C:\strorry\Maps\Genshtab_2k\n-36-07.ozfx3
1 ,Map Code,
Pulkovo 1942 (1),WGS 84, 0.0000, 0.0000,WGS 84
Reserved 1
Reserved 2
Magnetic Variation,,,E
Map Projection,Transverse Mercator,PolyCal,No,AutoCalOnly,No,BSBUseWPX,No
Point01,xy, 133, 90,in, deg, 55,19.99998,N, 30, 0,E, grid, , , ,N
Point02,xy, 3931, 88,in, deg, 55,19.99998,N, 31, 0,E, grid, , , ,N
Point03,xy, 3932, 4481,in, deg, 54,40.00002,N, 31, 0,E, grid, , , ,N
Point04,xy, 103, 4487,in, deg, 54,40.00002,N, 30, 0,E, grid, , , ,N
Point05,xy, 2020, 2289,in, deg, 55, 0,N, 30, 30,E, grid, , , ,N
Point06,xy, 2022, 98,in, deg, 55,19.99998,N, 30, 30,E, grid, , , ,N
Point07,xy, 116, 2286,in, deg, 55, 0,N, 30, 0,E, grid, , , ,N
Point08,xy, 3932, 2286,in, deg, 55, 0,N, 31, 0,E, grid, , , ,N
Point09,xy, 2019, 4482,in, deg, 54,40.00002,N, 30, 30,E, grid, , , ,N
Point10,xy, , ,in, deg, , ,N, , ,W, grid, , , ,N
Point11,xy, , ,in, deg, , ,N, , ,W, grid, , , ,N
Point12,xy, , ,in, deg, , ,N, , ,W, grid, , , ,N
Point13,xy, , ,in, deg, , ,N, , ,W, grid, , , ,N
Point14,xy, , ,in, deg, , ,N, , ,W, grid, , , ,N
Point15,xy, , ,in, deg, , ,N, , ,W, grid, , , ,N
Point16,xy, , ,in, deg, , ,N, , ,W, grid, , , ,N
Point17,xy, , ,in, deg, , ,N, , ,W, grid, , , ,N
Point18,xy, , ,in, deg, , ,N, , ,W, grid, , , ,N
Point19,xy, , ,in, deg, , ,N, , ,W, grid, , , ,N
Point20,xy, , ,in, deg, , ,N, , ,W, grid, , , ,N
Point21,xy, , ,in, deg, , ,N, , ,W, grid, , , ,N
Point22,xy, , ,in, deg, , ,N, , ,W, grid, , , ,N
Point23,xy, , ,in, deg, , ,N, , ,W, grid, , , ,N
Point24,xy, , ,in, deg, , ,N, , ,W, grid, , , ,N
Point25,xy, , ,in, deg, , ,N, , ,W, grid, , , ,N
Point26,xy, , ,in, deg, , ,N, , ,W, grid, , , ,N
Point27,xy, , ,in, deg, , ,N, , ,W, grid, , , ,N
Point28,xy, , ,in, deg, , ,N, , ,W, grid, , , ,N
Point29,xy, , ,in, deg, , ,N, , ,W, grid, , , ,N
Point30,xy, , ,in, deg, , ,N, , ,W, grid, , , ,N
Projection Setup, 0.000000000, 33.000000000, 1.000000000, 6500000.00, 0.00,,,,,
Map Feature = MF ; Map Comment = MC These follow if they exist
Track File = TF These follow if they exist
Moving Map Parameters = MM? These follow if they exist
MM0,Yes
MMPNUM,4
MMPXY,1,133,90
MMPXY,2,3931,88
MMPXY,3,3932,4481
MMPXY,4,103,4487
MMPLL,1,30.000000 , 55.333333
MMPLL,2,31.000000 , 55.333333
MMPLL,3,31.000000 , 54.666667
MMPLL,4,30.000000 , 54.666667
MM1B,16.765124
MOP,Map Open Position,0,0
IWH,Map Image Width/Height,3934,4488
