OziExplorer Map Data File Version 2.2
N-35-35
C:\strorry\Maps\Genshtab_2k\n-35-35.ozfx3
1 ,Map Code,
Pulkovo 1942 (1),WGS 84, 0.0000, 0.0000,WGS 84
Reserved 1
Reserved 2
Magnetic Variation,,,E
Map Projection,Transverse Mercator,PolyCal,No,AutoCalOnly,No,BSBUseWPX,No
Point01,xy, 167, 224,in, deg, 52,40.00002,N, 28, 0,E, grid, , , ,N
Point02,xy, 4205, 224,in, deg, 52,40.00002,N, 29, 0,E, grid, , , ,N
Point03,xy, 4236, 4599,in, deg, 52, 0,N, 29, 0,E, grid, , , ,N
Point04,xy, 138, 4602,in, deg, 52, 0,N, 28, 0,E, grid, , , ,N
Point05,xy, 2188, 2417,in, deg, 52,19.99998,N, 28, 30,E, grid, , , ,N
Point06,xy, 2185, 228,in, deg, 52,40.00002,N, 28, 30,E, grid, , , ,N
Point07,xy, 153, 2413,in, deg, 52,19.99998,N, 28, 0,E, grid, , , ,N
Point08,xy, 4219, 2413,in, deg, 52,19.99998,N, 29, 0,E, grid, , , ,N
Point09,xy, 2187, 4605,in, deg, 52, 0,N, 28, 30,E, grid, , , ,N
Point10,xy, , ,in, deg, , ,N, , ,W, grid, , , ,N
Point11,xy, , ,in, deg, , ,N, , ,W, grid, , , ,N
Point12,xy, , ,in, deg, , ,N, , ,W, grid, , , ,N
Point13,xy, , ,in, deg, , ,N, , ,W, grid, , , ,N
Point14,xy, , ,in, deg, , ,N, , ,W, grid, , , ,N
Point15,xy, , ,in, deg, , ,N, , ,W, grid, , , ,N
Point16,xy, , ,in, deg, , ,N, , ,W, grid, , , ,N
Point17,xy, , ,in, deg, , ,N, , ,W, grid, , , ,N
Point18,xy, , ,in, deg, , ,N, , ,W, grid, , , ,N
Point19,xy, , ,in, deg, , ,N, , ,W, grid, , , ,N
Point20,xy, , ,in, deg, , ,N, , ,W, grid, , , ,N
Point21,xy, , ,in, deg, , ,N, , ,W, grid, , , ,N
Point22,xy, , ,in, deg, , ,N, , ,W, grid, , , ,N
Point23,xy, , ,in, deg, , ,N, , ,W, grid, , , ,N
Point24,xy, , ,in, deg, , ,N, , ,W, grid, , , ,N
Point25,xy, , ,in, deg, , ,N, , ,W, grid, , , ,N
Point26,xy, , ,in, deg, , ,N, , ,W, grid, , , ,N
Point27,xy, , ,in, deg, , ,N, , ,W, grid, , , ,N
Point28,xy, , ,in, deg, , ,N, , ,W, grid, , , ,N
Point29,xy, , ,in, deg, , ,N, , ,W, grid, , , ,N
Point30,xy, , ,in, deg, , ,N, , ,W, grid, , , ,N
Projection Setup, 0.000000000, 27.000000000, 1.000000000, 5500000.00, 0.00,,,,,
Map Feature = MF ; Map Comment = MC These follow if they exist
Track File = TF These follow if they exist
Moving Map Parameters = MM? These follow if they exist
MM0,Yes
MMPNUM,4
MMPXY,1,167,224
MMPXY,2,4205,224
MMPXY,3,4236,4599
MMPXY,4,138,4602
MMPLL,1,28.000000 , 52.666667
MMPLL,2,29.000000 , 52.666667
MMPLL,3,29.000000 , 52.000000
MMPLL,4,28.000000 , 52.000000
MM1B,16.751546
MOP,Map Open Position,0,0
IWH,Map Image Width/Height,4378,5956
