OziExplorer Map Data File Version 2.2
N-35-31
C:\strorry\Maps\Genshtab_2k\n-35-31.ozfx3
1 ,Map Code,
Pulkovo 1942 (1),WGS 84, 0.0000, 0.0000,WGS 84
Reserved 1
Reserved 2
Magnetic Variation,,,E
Map Projection,Transverse Mercator,PolyCal,No,AutoCalOnly,No,BSBUseWPX,No
Point01,xy, 140, 100,in, deg, 52,40.00002,N, 24, 0,E, grid, , , ,N
Point02,xy, 4165, 99,in, deg, 52,40.00002,N, 25, 0,E, grid, , , ,N
Point03,xy, 4194, 4485,in, deg, 52, 0,N, 25, 0,E, grid, , , ,N
Point04,xy, 104, 4485,in, deg, 52, 0,N, 24, 0,E, grid, , , ,N
Point05,xy, 2152, 2301,in, deg, 52,19.99998,N, 24, 30,E, grid, , , ,N
Point06,xy, 2151, 109,in, deg, 52,40.00002,N, 24, 30,E, grid, , , ,N
Point07,xy, 123, 2294,in, deg, 52,19.99998,N, 24, 0,E, grid, , , ,N
Point08,xy, 4186, 2291,in, deg, 52,19.99998,N, 25, 0,E, grid, , , ,N
Point09,xy, 2152, 4494,in, deg, 52, 0,N, 24, 30,E, grid, , , ,N
Point10,xy, , ,in, deg, , ,N, , ,W, grid, , , ,N
Point11,xy, , ,in, deg, , ,N, , ,W, grid, , , ,N
Point12,xy, , ,in, deg, , ,N, , ,W, grid, , , ,N
Point13,xy, , ,in, deg, , ,N, , ,W, grid, , , ,N
Point14,xy, , ,in, deg, , ,N, , ,W, grid, , , ,N
Point15,xy, , ,in, deg, , ,N, , ,W, grid, , , ,N
Point16,xy, , ,in, deg, , ,N, , ,W, grid, , , ,N
Point17,xy, , ,in, deg, , ,N, , ,W, grid, , , ,N
Point18,xy, , ,in, deg, , ,N, , ,W, grid, , , ,N
Point19,xy, , ,in, deg, , ,N, , ,W, grid, , , ,N
Point20,xy, , ,in, deg, , ,N, , ,W, grid, , , ,N
Point21,xy, , ,in, deg, , ,N, , ,W, grid, , , ,N
Point22,xy, , ,in, deg, , ,N, , ,W, grid, , , ,N
Point23,xy, , ,in, deg, , ,N, , ,W, grid, , , ,N
Point24,xy, , ,in, deg, , ,N, , ,W, grid, , , ,N
Point25,xy, , ,in, deg, , ,N, , ,W, grid, , , ,N
Point26,xy, , ,in, deg, , ,N, , ,W, grid, , , ,N
Point27,xy, , ,in, deg, , ,N, , ,W, grid, , , ,N
Point28,xy, , ,in, deg, , ,N, , ,W, grid, , , ,N
Point29,xy, , ,in, deg, , ,N, , ,W, grid, , , ,N
Point30,xy, , ,in, deg, , ,N, , ,W, grid, , , ,N
Projection Setup, 0.000000000, 27.000000000, 1.000000000, 5500000.00, 0.00,,,,,
Map Feature = MF ; Map Comment = MC These follow if they exist
Track File = TF These follow if they exist
Moving Map Parameters = MM? These follow if they exist
MM0,Yes
MMPNUM,4
MMPXY,1,140,100
MMPXY,2,4165,99
MMPXY,3,4194,4485
MMPXY,4,104,4485
MMPLL,1,24.000000 , 52.666667
MMPLL,2,25.000000 , 52.666667
MMPLL,3,25.000000 , 52.000000
MMPLL,4,24.000000 , 52.000000
MM1B,16.781646
MOP,Map Open Position,0,0
IWH,Map Image Width/Height,4217,4963
