OziExplorer Map Data File Version 2.2
N-35-27
C:\strorry\Maps\Genshtab_2k\n-35-27.ozfx3
1 ,Map Code,
Pulkovo 1942 (1),WGS 84, 0.0000, 0.0000,WGS 84
Reserved 1
Reserved 2
Magnetic Variation,,,E
Map Projection,Transverse Mercator,PolyCal,No,AutoCalOnly,No,BSBUseWPX,No
Point01,xy, 158, 208,in, deg, 53,19.99998,N, 26, 0,E, grid, , , ,N
Point02,xy, 4094, 209,in, deg, 53,19.99998,N, 27, 0,E, grid, , , ,N
Point03,xy, 4121, 4593,in, deg, 52,40.00002,N, 27, 0,E, grid, , , ,N
Point04,xy, 123, 4588,in, deg, 52,40.00002,N, 26, 0,E, grid, , , ,N
Point05,xy, 2126, 2406,in, deg, 53, 0,N, 26, 30,E, grid, , , ,N
Point06,xy, 2127, 215,in, deg, 53,19.99998,N, 26, 30,E, grid, , , ,N
Point07,xy, 142, 2399,in, deg, 53, 0,N, 26, 0,E, grid, , , ,N
Point08,xy, 4110, 2402,in, deg, 53, 0,N, 27, 0,E, grid, , , ,N
Point09,xy, 2123, 4596,in, deg, 52,40.00002,N, 26, 30,E, grid, , , ,N
Point10,xy, , ,in, deg, , ,N, , ,W, grid, , , ,N
Point11,xy, , ,in, deg, , ,N, , ,W, grid, , , ,N
Point12,xy, , ,in, deg, , ,N, , ,W, grid, , , ,N
Point13,xy, , ,in, deg, , ,N, , ,W, grid, , , ,N
Point14,xy, , ,in, deg, , ,N, , ,W, grid, , , ,N
Point15,xy, , ,in, deg, , ,N, , ,W, grid, , , ,N
Point16,xy, , ,in, deg, , ,N, , ,W, grid, , , ,N
Point17,xy, , ,in, deg, , ,N, , ,W, grid, , , ,N
Point18,xy, , ,in, deg, , ,N, , ,W, grid, , , ,N
Point19,xy, , ,in, deg, , ,N, , ,W, grid, , , ,N
Point20,xy, , ,in, deg, , ,N, , ,W, grid, , , ,N
Point21,xy, , ,in, deg, , ,N, , ,W, grid, , , ,N
Point22,xy, , ,in, deg, , ,N, , ,W, grid, , , ,N
Point23,xy, , ,in, deg, , ,N, , ,W, grid, , , ,N
Point24,xy, , ,in, deg, , ,N, , ,W, grid, , , ,N
Point25,xy, , ,in, deg, , ,N, , ,W, grid, , , ,N
Point26,xy, , ,in, deg, , ,N, , ,W, grid, , , ,N
Point27,xy, , ,in, deg, , ,N, , ,W, grid, , , ,N
Point28,xy, , ,in, deg, , ,N, , ,W, grid, , , ,N
Point29,xy, , ,in, deg, , ,N, , ,W, grid, , , ,N
Point30,xy, , ,in, deg, , ,N, , ,W, grid, , , ,N
Projection Setup, 0.000000000, 27.000000000, 1.000000000, 5500000.00, 0.00,,,,,
Map Feature = MF ; Map Comment = MC These follow if they exist
Track File = TF These follow if they exist
Moving Map Parameters = MM? These follow if they exist
MM0,Yes
MMPNUM,4
MMPXY,1,158,208
MMPXY,2,4094,209
MMPXY,3,4121,4593
MMPXY,4,123,4588
MMPLL,1,26.000000 , 53.333333
MMPLL,2,27.000000 , 53.333333
MMPLL,3,27.000000 , 52.666667
MMPLL,4,26.000000 , 52.666667
MM1B,16.915659
MOP,Map Open Position,0,0
IWH,Map Image Width/Height,4242,4885
