OziExplorer Map Data File Version 2.2
N-35-23
C:\strorry\Maps\Genshtab_2k\n-35-23.ozfx3
1 ,Map Code,
Pulkovo 1942 (1),WGS 84, 0.0000, 0.0000,WGS 84
Reserved 1
Reserved 2
Magnetic Variation,,,E
Map Projection,Transverse Mercator,PolyCal,No,AutoCalOnly,No,BSBUseWPX,No
Point01,xy, 162, 213,in, deg, 54, 0,N, 28, 0,E, grid, , , ,N
Point02,xy, 4015, 211,in, deg, 54, 0,N, 29, 0,E, grid, , , ,N
Point03,xy, 4046, 4582,in, deg, 53,19.99998,N, 29, 0,E, grid, , , ,N
Point04,xy, 128, 4575,in, deg, 53,19.99998,N, 28, 0,E, grid, , , ,N
Point05,xy, 2092, 2405,in, deg, 53,40.00002,N, 28, 30,E, grid, , , ,N
Point06,xy, 2088, 222,in, deg, 54, 0,N, 28, 30,E, grid, , , ,N
Point07,xy, 151, 2395,in, deg, 53,40.00002,N, 28, 0,E, grid, , , ,N
Point08,xy, 4032, 2398,in, deg, 53,40.00002,N, 29, 0,E, grid, , , ,N
Point09,xy, 2087, 4583,in, deg, 53,19.99998,N, 28, 30,E, grid, , , ,N
Point10,xy, , ,in, deg, , ,N, , ,W, grid, , , ,N
Point11,xy, , ,in, deg, , ,N, , ,W, grid, , , ,N
Point12,xy, , ,in, deg, , ,N, , ,W, grid, , , ,N
Point13,xy, , ,in, deg, , ,N, , ,W, grid, , , ,N
Point14,xy, , ,in, deg, , ,N, , ,W, grid, , , ,N
Point15,xy, , ,in, deg, , ,N, , ,W, grid, , , ,N
Point16,xy, , ,in, deg, , ,N, , ,W, grid, , , ,N
Point17,xy, , ,in, deg, , ,N, , ,W, grid, , , ,N
Point18,xy, , ,in, deg, , ,N, , ,W, grid, , , ,N
Point19,xy, , ,in, deg, , ,N, , ,W, grid, , , ,N
Point20,xy, , ,in, deg, , ,N, , ,W, grid, , , ,N
Point21,xy, , ,in, deg, , ,N, , ,W, grid, , , ,N
Point22,xy, , ,in, deg, , ,N, , ,W, grid, , , ,N
Point23,xy, , ,in, deg, , ,N, , ,W, grid, , , ,N
Point24,xy, , ,in, deg, , ,N, , ,W, grid, , , ,N
Point25,xy, , ,in, deg, , ,N, , ,W, grid, , , ,N
Point26,xy, , ,in, deg, , ,N, , ,W, grid, , , ,N
Point27,xy, , ,in, deg, , ,N, , ,W, grid, , , ,N
Point28,xy, , ,in, deg, , ,N, , ,W, grid, , , ,N
Point29,xy, , ,in, deg, , ,N, , ,W, grid, , , ,N
Point30,xy, , ,in, deg, , ,N, , ,W, grid, , , ,N
Projection Setup, 0.000000000, 27.000000000, 1.000000000, 5500000.00, 0.00,,,,,
Map Feature = MF ; Map Comment = MC These follow if they exist
Track File = TF These follow if they exist
Moving Map Parameters = MM? These follow if they exist
MM0,Yes
MMPNUM,4
MMPXY,1,162,213
MMPXY,2,4015,211
MMPXY,3,4046,4582
MMPXY,4,128,4575
MMPLL,1,28.000000 , 54.000000
MMPLL,2,29.000000 , 54.000000
MMPLL,3,29.000000 , 53.333333
MMPLL,4,28.000000 , 53.333333
MM1B,17.009348
MOP,Map Open Position,0,0
IWH,Map Image Width/Height,4188,4866
