OziExplorer Map Data File Version 2.2
N-35-15
C:\strorry\Maps\Genshtab_2k\n-35-15.ozfx3
1 ,Map Code,
Pulkovo 1942 (1),WGS 84, 0.0000, 0.0000,WGS 84
Reserved 1
Reserved 2
Magnetic Variation,,,E
Map Projection,Transverse Mercator,PolyCal,No,AutoCalOnly,No,BSBUseWPX,No
Point01,xy, 160, 208,in, deg, 54,40.00002,N, 26, 0,E, grid, , , ,N
Point02,xy, 3972, 211,in, deg, 54,40.00002,N, 27, 0,E, grid, , , ,N
Point03,xy, 3997, 4585,in, deg, 54, 0,N, 27, 0,E, grid, , , ,N
Point04,xy, 123, 4577,in, deg, 54, 0,N, 26, 0,E, grid, , , ,N
Point05,xy, 2064, 2407,in, deg, 54,19.99998,N, 26, 30,E, grid, , , ,N
Point06,xy, 2067, 216,in, deg, 54,40.00002,N, 26, 30,E, grid, , , ,N
Point07,xy, 142, 2396,in, deg, 54,19.99998,N, 26, 0,E, grid, , , ,N
Point08,xy, 3987, 2399,in, deg, 54,19.99998,N, 27, 0,E, grid, , , ,N
Point09,xy, 2059, 4593,in, deg, 54, 0,N, 26, 30,E, grid, , , ,N
Point10,xy, , ,in, deg, , ,N, , ,W, grid, , , ,N
Point11,xy, , ,in, deg, , ,N, , ,W, grid, , , ,N
Point12,xy, , ,in, deg, , ,N, , ,W, grid, , , ,N
Point13,xy, , ,in, deg, , ,N, , ,W, grid, , , ,N
Point14,xy, , ,in, deg, , ,N, , ,W, grid, , , ,N
Point15,xy, , ,in, deg, , ,N, , ,W, grid, , , ,N
Point16,xy, , ,in, deg, , ,N, , ,W, grid, , , ,N
Point17,xy, , ,in, deg, , ,N, , ,W, grid, , , ,N
Point18,xy, , ,in, deg, , ,N, , ,W, grid, , , ,N
Point19,xy, , ,in, deg, , ,N, , ,W, grid, , , ,N
Point20,xy, , ,in, deg, , ,N, , ,W, grid, , , ,N
Point21,xy, , ,in, deg, , ,N, , ,W, grid, , , ,N
Point22,xy, , ,in, deg, , ,N, , ,W, grid, , , ,N
Point23,xy, , ,in, deg, , ,N, , ,W, grid, , , ,N
Point24,xy, , ,in, deg, , ,N, , ,W, grid, , , ,N
Point25,xy, , ,in, deg, , ,N, , ,W, grid, , , ,N
Point26,xy, , ,in, deg, , ,N, , ,W, grid, , , ,N
Point27,xy, , ,in, deg, , ,N, , ,W, grid, , , ,N
Point28,xy, , ,in, deg, , ,N, , ,W, grid, , , ,N
Point29,xy, , ,in, deg, , ,N, , ,W, grid, , , ,N
Point30,xy, , ,in, deg, , ,N, , ,W, grid, , , ,N
Projection Setup, 0.000000000, 27.000000000, 1.000000000, 5500000.00, 0.00,,,,,
Map Feature = MF ; Map Comment = MC These follow if they exist
Track File = TF These follow if they exist
Moving Map Parameters = MM? These follow if they exist
MM0,Yes
MMPNUM,4
MMPXY,1,160,208
MMPXY,2,3972,211
MMPXY,3,3997,4585
MMPXY,4,123,4577
MMPLL,1,26.000000 , 54.666667
MMPLL,2,27.000000 , 54.666667
MMPLL,3,27.000000 , 54.000000
MMPLL,4,26.000000 , 54.000000
MM1B,16.917308
MOP,Map Open Position,0,0
IWH,Map Image Width/Height,4119,4885
