OziExplorer Map Data File Version 2.2
N-35-11
C:\strorry\Maps\Genshtab_2k\n-35-11.ozfx3
1 ,Map Code,
Pulkovo 1942 (1),WGS 84, 0.0000, 0.0000,WGS 84
Reserved 1
Reserved 2
Magnetic Variation,,,E
Map Projection,Transverse Mercator,PolyCal,No,AutoCalOnly,No,BSBUseWPX,No
Point01,xy, 176, 231,in, deg, 55,19.99998,N, 28, 0,E, grid, , , ,N
Point02,xy, 3928, 228,in, deg, 55,19.99998,N, 29, 0,E, grid, , , ,N
Point03,xy, 3957, 4606,in, deg, 54,40.00002,N, 29, 0,E, grid, , , ,N
Point04,xy, 144, 4606,in, deg, 54,40.00002,N, 28, 0,E, grid, , , ,N
Point05,xy, 2052, 2422,in, deg, 55, 0,N, 28, 30,E, grid, , , ,N
Point06,xy, 2050, 235,in, deg, 55,19.99998,N, 28, 30,E, grid, , , ,N
Point07,xy, 160, 2418,in, deg, 55, 0,N, 28, 0,E, grid, , , ,N
Point08,xy, 3944, 2419,in, deg, 55, 0,N, 29, 0,E, grid, , , ,N
Point09,xy, 2052, 4615,in, deg, 54,40.00002,N, 28, 30,E, grid, , , ,N
Point10,xy, , ,in, deg, , ,N, , ,W, grid, , , ,N
Point11,xy, , ,in, deg, , ,N, , ,W, grid, , , ,N
Point12,xy, , ,in, deg, , ,N, , ,W, grid, , , ,N
Point13,xy, , ,in, deg, , ,N, , ,W, grid, , , ,N
Point14,xy, , ,in, deg, , ,N, , ,W, grid, , , ,N
Point15,xy, , ,in, deg, , ,N, , ,W, grid, , , ,N
Point16,xy, , ,in, deg, , ,N, , ,W, grid, , , ,N
Point17,xy, , ,in, deg, , ,N, , ,W, grid, , , ,N
Point18,xy, , ,in, deg, , ,N, , ,W, grid, , , ,N
Point19,xy, , ,in, deg, , ,N, , ,W, grid, , , ,N
Point20,xy, , ,in, deg, , ,N, , ,W, grid, , , ,N
Point21,xy, , ,in, deg, , ,N, , ,W, grid, , , ,N
Point22,xy, , ,in, deg, , ,N, , ,W, grid, , , ,N
Point23,xy, , ,in, deg, , ,N, , ,W, grid, , , ,N
Point24,xy, , ,in, deg, , ,N, , ,W, grid, , , ,N
Point25,xy, , ,in, deg, , ,N, , ,W, grid, , , ,N
Point26,xy, , ,in, deg, , ,N, , ,W, grid, , , ,N
Point27,xy, , ,in, deg, , ,N, , ,W, grid, , , ,N
Point28,xy, , ,in, deg, , ,N, , ,W, grid, , , ,N
Point29,xy, , ,in, deg, , ,N, , ,W, grid, , , ,N
Point30,xy, , ,in, deg, , ,N, , ,W, grid, , , ,N
Projection Setup, 0.000000000, 27.000000000, 1.000000000, 5500000.00, 0.00,,,,,
Map Feature = MF ; Map Comment = MC These follow if they exist
Track File = TF These follow if they exist
Moving Map Parameters = MM? These follow if they exist
MM0,Yes
MMPNUM,4
MMPXY,1,176,231
MMPXY,2,3928,228
MMPXY,3,3957,4606
MMPXY,4,144,4606
MMPLL,1,28.000000 , 55.333333
MMPLL,2,29.000000 , 55.333333
MMPLL,3,29.000000 , 54.666667
MMPLL,4,28.000000 , 54.666667
MM1B,16.907593
MOP,Map Open Position,0,0
IWH,Map Image Width/Height,4106,4886
