OziExplorer Map Data File Version 2.2
N-35-10
C:\strorry\Maps\Genshtab_2k\n-35-10.ozfx3
1 ,Map Code,
Pulkovo 1942 (1),WGS 84, 0.0000, 0.0000,WGS 84
Reserved 1
Reserved 2
Magnetic Variation,,,E
Map Projection,Transverse Mercator,PolyCal,No,AutoCalOnly,No,BSBUseWPX,No
Point01,xy, 152, 220,in, deg, 55,19.99998,N, 27, 0,E, grid, , , ,N
Point02,xy, 3899, 221,in, deg, 55,19.99998,N, 28, 0,E, grid, , , ,N
Point03,xy, 3934, 4597,in, deg, 54,40.00002,N, 28, 0,E, grid, , , ,N
Point04,xy, 120, 4599,in, deg, 54,40.00002,N, 27, 0,E, grid, , , ,N
Point05,xy, 2025, 2417,in, deg, 55, 0,N, 27, 30,E, grid, , , ,N
Point06,xy, 2024, 226,in, deg, 55,19.99998,N, 27, 30,E, grid, , , ,N
Point07,xy, 135, 2409,in, deg, 55, 0,N, 27, 0,E, grid, , , ,N
Point08,xy, 3915, 2408,in, deg, 55, 0,N, 28, 0,E, grid, , , ,N
Point09,xy, 2026, 4607,in, deg, 54,40.00002,N, 27, 30,E, grid, , , ,N
Point10,xy, , ,in, deg, , ,N, , ,W, grid, , , ,N
Point11,xy, , ,in, deg, , ,N, , ,W, grid, , , ,N
Point12,xy, , ,in, deg, , ,N, , ,W, grid, , , ,N
Point13,xy, , ,in, deg, , ,N, , ,W, grid, , , ,N
Point14,xy, , ,in, deg, , ,N, , ,W, grid, , , ,N
Point15,xy, , ,in, deg, , ,N, , ,W, grid, , , ,N
Point16,xy, , ,in, deg, , ,N, , ,W, grid, , , ,N
Point17,xy, , ,in, deg, , ,N, , ,W, grid, , , ,N
Point18,xy, , ,in, deg, , ,N, , ,W, grid, , , ,N
Point19,xy, , ,in, deg, , ,N, , ,W, grid, , , ,N
Point20,xy, , ,in, deg, , ,N, , ,W, grid, , , ,N
Point21,xy, , ,in, deg, , ,N, , ,W, grid, , , ,N
Point22,xy, , ,in, deg, , ,N, , ,W, grid, , , ,N
Point23,xy, , ,in, deg, , ,N, , ,W, grid, , , ,N
Point24,xy, , ,in, deg, , ,N, , ,W, grid, , , ,N
Point25,xy, , ,in, deg, , ,N, , ,W, grid, , , ,N
Point26,xy, , ,in, deg, , ,N, , ,W, grid, , , ,N
Point27,xy, , ,in, deg, , ,N, , ,W, grid, , , ,N
Point28,xy, , ,in, deg, , ,N, , ,W, grid, , , ,N
Point29,xy, , ,in, deg, , ,N, , ,W, grid, , , ,N
Point30,xy, , ,in, deg, , ,N, , ,W, grid, , , ,N
Projection Setup, 0.000000000, 27.000000000, 1.000000000, 5500000.00, 0.00,,,,,
Map Feature = MF ; Map Comment = MC These follow if they exist
Track File = TF These follow if they exist
Moving Map Parameters = MM? These follow if they exist
MM0,Yes
MMPNUM,4
MMPXY,1,152,220
MMPXY,2,3899,221
MMPXY,3,3934,4597
MMPXY,4,120,4599
MMPLL,1,27.000000 , 55.333333
MMPLL,2,28.000000 , 55.333333
MMPLL,3,28.000000 , 54.666667
MMPLL,4,27.000000 , 54.666667
MM1B,16.921162
MOP,Map Open Position,0,0
IWH,Map Image Width/Height,4051,4921
