OziExplorer Map Data File Version 2.2
N-35-09
C:\strorry\Maps\Genshtab_2k\n-35-09.ozfx3
1 ,Map Code,
Pulkovo 1942 (1),WGS 84, 0.0000, 0.0000,WGS 84
Reserved 1
Reserved 2
Magnetic Variation,,,E
Map Projection,Transverse Mercator,PolyCal,No,AutoCalOnly,No,BSBUseWPX,No
Point01,xy, 146, 225,in, deg, 55,19.99998,N, 26, 0,E, grid, , , ,N
Point02,xy, 3898, 224,in, deg, 55,19.99998,N, 27, 0,E, grid, , , ,N
Point03,xy, 3934, 4608,in, deg, 54,40.00002,N, 27, 0,E, grid, , , ,N
Point04,xy, 119, 4608,in, deg, 54,40.00002,N, 26, 0,E, grid, , , ,N
Point05,xy, 2025, 2424,in, deg, 55, 0,N, 26, 30,E, grid, , , ,N
Point06,xy, 2019, 230,in, deg, 55,19.99998,N, 26, 30,E, grid, , , ,N
Point07,xy, 133, 2418,in, deg, 55, 0,N, 26, 0,E, grid, , , ,N
Point08,xy, 3917, 2415,in, deg, 55, 0,N, 27, 0,E, grid, , , ,N
Point09,xy, 2028, 4614,in, deg, 54,40.00002,N, 26, 30,E, grid, , , ,N
Point10,xy, , ,in, deg, , ,N, , ,W, grid, , , ,N
Point11,xy, , ,in, deg, , ,N, , ,W, grid, , , ,N
Point12,xy, , ,in, deg, , ,N, , ,W, grid, , , ,N
Point13,xy, , ,in, deg, , ,N, , ,W, grid, , , ,N
Point14,xy, , ,in, deg, , ,N, , ,W, grid, , , ,N
Point15,xy, , ,in, deg, , ,N, , ,W, grid, , , ,N
Point16,xy, , ,in, deg, , ,N, , ,W, grid, , , ,N
Point17,xy, , ,in, deg, , ,N, , ,W, grid, , , ,N
Point18,xy, , ,in, deg, , ,N, , ,W, grid, , , ,N
Point19,xy, , ,in, deg, , ,N, , ,W, grid, , , ,N
Point20,xy, , ,in, deg, , ,N, , ,W, grid, , , ,N
Point21,xy, , ,in, deg, , ,N, , ,W, grid, , , ,N
Point22,xy, , ,in, deg, , ,N, , ,W, grid, , , ,N
Point23,xy, , ,in, deg, , ,N, , ,W, grid, , , ,N
Point24,xy, , ,in, deg, , ,N, , ,W, grid, , , ,N
Point25,xy, , ,in, deg, , ,N, , ,W, grid, , , ,N
Point26,xy, , ,in, deg, , ,N, , ,W, grid, , , ,N
Point27,xy, , ,in, deg, , ,N, , ,W, grid, , , ,N
Point28,xy, , ,in, deg, , ,N, , ,W, grid, , , ,N
Point29,xy, , ,in, deg, , ,N, , ,W, grid, , , ,N
Point30,xy, , ,in, deg, , ,N, , ,W, grid, , , ,N
Projection Setup, 0.000000000, 27.000000000, 1.000000000, 5500000.00, 0.00,,,,,
Map Feature = MF ; Map Comment = MC These follow if they exist
Track File = TF These follow if they exist
Moving Map Parameters = MM? These follow if they exist
MM0,Yes
MMPNUM,4
MMPXY,1,146,225
MMPXY,2,3898,224
MMPXY,3,3934,4608
MMPXY,4,119,4608
MMPLL,1,26.000000 , 55.333333
MMPLL,2,27.000000 , 55.333333
MMPLL,3,27.000000 , 54.666667
MMPLL,4,26.000000 , 54.666667
MM1B,16.906234
MOP,Map Open Position,0,0
IWH,Map Image Width/Height,4059,4846
