OziExplorer Map Data File Version 2.2
N-35-08
C:\strorry\Maps\Genshtab_2k\n-35-08.ozfx3
1 ,Map Code,
Pulkovo 1942 (1),WGS 84, 0.0000, 0.0000,WGS 84
Reserved 1
Reserved 2
Magnetic Variation,,,E
Map Projection,Transverse Mercator,PolyCal,No,AutoCalOnly,No,BSBUseWPX,No
Point01,xy, 181, 212,in, deg, 55,19.99998,N, 25, 0,E, grid, , , ,N
Point02,xy, 3927, 214,in, deg, 55,19.99998,N, 26, 0,E, grid, , , ,N
Point03,xy, 3953, 4600,in, deg, 54,40.00002,N, 26, 0,E, grid, , , ,N
Point04,xy, 144, 4591,in, deg, 54,40.00002,N, 25, 0,E, grid, , , ,N
Point05,xy, 2051, 2412,in, deg, 55, 0,N, 25, 30,E, grid, , , ,N
Point06,xy, 2052, 221,in, deg, 55,19.99998,N, 25, 30,E, grid, , , ,N
Point07,xy, 164, 2402,in, deg, 55, 0,N, 25, 0,E, grid, , , ,N
Point08,xy, 3941, 2405,in, deg, 55, 0,N, 26, 0,E, grid, , , ,N
Point09,xy, 2047, 4601,in, deg, 54,40.00002,N, 25, 30,E, grid, , , ,N
Point10,xy, , ,in, deg, , ,N, , ,W, grid, , , ,N
Point11,xy, , ,in, deg, , ,N, , ,W, grid, , , ,N
Point12,xy, , ,in, deg, , ,N, , ,W, grid, , , ,N
Point13,xy, , ,in, deg, , ,N, , ,W, grid, , , ,N
Point14,xy, , ,in, deg, , ,N, , ,W, grid, , , ,N
Point15,xy, , ,in, deg, , ,N, , ,W, grid, , , ,N
Point16,xy, , ,in, deg, , ,N, , ,W, grid, , , ,N
Point17,xy, , ,in, deg, , ,N, , ,W, grid, , , ,N
Point18,xy, , ,in, deg, , ,N, , ,W, grid, , , ,N
Point19,xy, , ,in, deg, , ,N, , ,W, grid, , , ,N
Point20,xy, , ,in, deg, , ,N, , ,W, grid, , , ,N
Point21,xy, , ,in, deg, , ,N, , ,W, grid, , , ,N
Point22,xy, , ,in, deg, , ,N, , ,W, grid, , , ,N
Point23,xy, , ,in, deg, , ,N, , ,W, grid, , , ,N
Point24,xy, , ,in, deg, , ,N, , ,W, grid, , , ,N
Point25,xy, , ,in, deg, , ,N, , ,W, grid, , , ,N
Point26,xy, , ,in, deg, , ,N, , ,W, grid, , , ,N
Point27,xy, , ,in, deg, , ,N, , ,W, grid, , , ,N
Point28,xy, , ,in, deg, , ,N, , ,W, grid, , , ,N
Point29,xy, , ,in, deg, , ,N, , ,W, grid, , , ,N
Point30,xy, , ,in, deg, , ,N, , ,W, grid, , , ,N
Projection Setup, 0.000000000, 27.000000000, 1.000000000, 5500000.00, 0.00,,,,,
Map Feature = MF ; Map Comment = MC These follow if they exist
Track File = TF These follow if they exist
Moving Map Parameters = MM? These follow if they exist
MM0,Yes
MMPNUM,4
MMPXY,1,181,212
MMPXY,2,3927,214
MMPXY,3,3953,4600
MMPXY,4,144,4591
MMPLL,1,25.000000 , 55.333333
MMPLL,2,26.000000 , 55.333333
MMPLL,3,26.000000 , 54.666667
MMPLL,4,25.000000 , 54.666667
MM1B,16.933293
MOP,Map Open Position,0,0
IWH,Map Image Width/Height,4100,4887
