OziExplorer Map Data File Version 2.2
N-35-05
C:\strorry\Maps\Genshtab_2k\n-35-05.ozfx3
1 ,Map Code,
Pulkovo 1942 (1),WGS 84, 0.0000, 0.0000,WGS 84
Reserved 1
Reserved 2
Magnetic Variation,,,E
Map Projection,Transverse Mercator,PolyCal,No,AutoCalOnly,No,BSBUseWPX,No
Point01,xy, 181, 214,in, deg, 56, 0,N, 28, 0,E, grid, , , ,N
Point02,xy, 3868, 213,in, deg, 56, 0,N, 29, 0,E, grid, , , ,N
Point03,xy, 3901, 4589,in, deg, 55,19.99998,N, 29, 0,E, grid, , , ,N
Point04,xy, 147, 4592,in, deg, 55,19.99998,N, 28, 0,E, grid, , , ,N
Point05,xy, 2024, 2409,in, deg, 55,40.00002,N, 28, 30,E, grid, , , ,N
Point06,xy, 2023, 219,in, deg, 56, 0,N, 28, 30,E, grid, , , ,N
Point07,xy, 162, 2403,in, deg, 55,40.00002,N, 28, 0,E, grid, , , ,N
Point08,xy, 3885, 2404,in, deg, 55,40.00002,N, 29, 0,E, grid, , , ,N
Point09,xy, 2025, 4597,in, deg, 55,19.99998,N, 28, 30,E, grid, , , ,N
Point10,xy, , ,in, deg, , ,N, , ,W, grid, , , ,N
Point11,xy, , ,in, deg, , ,N, , ,W, grid, , , ,N
Point12,xy, , ,in, deg, , ,N, , ,W, grid, , , ,N
Point13,xy, , ,in, deg, , ,N, , ,W, grid, , , ,N
Point14,xy, , ,in, deg, , ,N, , ,W, grid, , , ,N
Point15,xy, , ,in, deg, , ,N, , ,W, grid, , , ,N
Point16,xy, , ,in, deg, , ,N, , ,W, grid, , , ,N
Point17,xy, , ,in, deg, , ,N, , ,W, grid, , , ,N
Point18,xy, , ,in, deg, , ,N, , ,W, grid, , , ,N
Point19,xy, , ,in, deg, , ,N, , ,W, grid, , , ,N
Point20,xy, , ,in, deg, , ,N, , ,W, grid, , , ,N
Point21,xy, , ,in, deg, , ,N, , ,W, grid, , , ,N
Point22,xy, , ,in, deg, , ,N, , ,W, grid, , , ,N
Point23,xy, , ,in, deg, , ,N, , ,W, grid, , , ,N
Point24,xy, , ,in, deg, , ,N, , ,W, grid, , , ,N
Point25,xy, , ,in, deg, , ,N, , ,W, grid, , , ,N
Point26,xy, , ,in, deg, , ,N, , ,W, grid, , , ,N
Point27,xy, , ,in, deg, , ,N, , ,W, grid, , , ,N
Point28,xy, , ,in, deg, , ,N, , ,W, grid, , , ,N
Point29,xy, , ,in, deg, , ,N, , ,W, grid, , , ,N
Point30,xy, , ,in, deg, , ,N, , ,W, grid, , , ,N
Projection Setup, 0.000000000, 27.000000000, 1.000000000, 5500000.00, 0.00,,,,,
Map Feature = MF ; Map Comment = MC These follow if they exist
Track File = TF These follow if they exist
Moving Map Parameters = MM? These follow if they exist
MM0,Yes
MMPNUM,4
MMPXY,1,181,214
MMPXY,2,3868,213
MMPXY,3,3901,4589
MMPXY,4,147,4592
MMPLL,1,28.000000 , 56.000000
MMPLL,2,29.000000 , 56.000000
MMPLL,3,29.000000 , 55.333333
MMPLL,4,28.000000 , 55.333333
MM1B,16.901454
MOP,Map Open Position,0,0
IWH,Map Image Width/Height,4049,4806
