OziExplorer Map Data File Version 2.2
N-34-30
C:\strorry\Maps\Genshtab_2k\n-34-30.ozfx3
1 ,Map Code,
Pulkovo 1942 (1),WGS 84, 0.0000, 0.0000,WGS 84
Reserved 1
Reserved 2
Magnetic Variation,,,E
Map Projection,Transverse Mercator,PolyCal,No,AutoCalOnly,No,BSBUseWPX,No
Point01,xy, 176, 234,in, deg, 53,19.99998,N, 23, 0,E, grid, , , ,N
Point02,xy, 4108, 236,in, deg, 53,19.99998,N, 24, 0,E, grid, , , ,N
Point03,xy, 4133, 4621,in, deg, 52,40.00002,N, 24, 0,E, grid, , , ,N
Point04,xy, 140, 4618,in, deg, 52,40.00002,N, 23, 0,E, grid, , , ,N
Point05,xy, 2138, 2437,in, deg, 53, 0,N, 23, 30,E, grid, , , ,N
Point06,xy, 2141, 245,in, deg, 53,19.99998,N, 23, 30,E, grid, , , ,N
Point07,xy, 157, 2426,in, deg, 53, 0,N, 23, 0,E, grid, , , ,N
Point08,xy, 4120, 2428,in, deg, 53, 0,N, 24, 0,E, grid, , , ,N
Point09,xy, 2137, 4629,in, deg, 52,40.00002,N, 23, 30,E, grid, , , ,N
Point10,xy, , ,in, deg, , ,N, , ,W, grid, , , ,N
Point11,xy, , ,in, deg, , ,N, , ,W, grid, , , ,N
Point12,xy, , ,in, deg, , ,N, , ,W, grid, , , ,N
Point13,xy, , ,in, deg, , ,N, , ,W, grid, , , ,N
Point14,xy, , ,in, deg, , ,N, , ,W, grid, , , ,N
Point15,xy, , ,in, deg, , ,N, , ,W, grid, , , ,N
Point16,xy, , ,in, deg, , ,N, , ,W, grid, , , ,N
Point17,xy, , ,in, deg, , ,N, , ,W, grid, , , ,N
Point18,xy, , ,in, deg, , ,N, , ,W, grid, , , ,N
Point19,xy, , ,in, deg, , ,N, , ,W, grid, , , ,N
Point20,xy, , ,in, deg, , ,N, , ,W, grid, , , ,N
Point21,xy, , ,in, deg, , ,N, , ,W, grid, , , ,N
Point22,xy, , ,in, deg, , ,N, , ,W, grid, , , ,N
Point23,xy, , ,in, deg, , ,N, , ,W, grid, , , ,N
Point24,xy, , ,in, deg, , ,N, , ,W, grid, , , ,N
Point25,xy, , ,in, deg, , ,N, , ,W, grid, , , ,N
Point26,xy, , ,in, deg, , ,N, , ,W, grid, , , ,N
Point27,xy, , ,in, deg, , ,N, , ,W, grid, , , ,N
Point28,xy, , ,in, deg, , ,N, , ,W, grid, , , ,N
Point29,xy, , ,in, deg, , ,N, , ,W, grid, , , ,N
Point30,xy, , ,in, deg, , ,N, , ,W, grid, , , ,N
Projection Setup, 0.000000000, 21.000000000, 1.000000000, 4500000.00, 0.00,,,,,
Map Feature = MF ; Map Comment = MC These follow if they exist
Track File = TF These follow if they exist
Moving Map Parameters = MM? These follow if they exist
MM0,Yes
MMPNUM,4
MMPXY,1,176,234
MMPXY,2,4108,236
MMPXY,3,4133,4621
MMPXY,4,140,4618
MMPLL,1,23.000000 , 53.333333
MMPLL,2,24.000000 , 53.333333
MMPLL,3,24.000000 , 52.666667
MMPLL,4,23.000000 , 52.666667
MM1B,16.930894
MOP,Map Open Position,0,0
IWH,Map Image Width/Height,4356,4908
