OziExplorer Map Data File Version 2.2
M-36-01
C:\strorry\Maps\Genshtab_2k\m-36-01.ozfx3
1 ,Map Code,
Pulkovo 1942 (1),WGS 84, 0.0000, 0.0000,WGS 84
Reserved 1
Reserved 2
Magnetic Variation,,,E
Map Projection,Transverse Mercator,PolyCal,No,AutoCalOnly,No,BSBUseWPX,No
Point01,xy, 170, 215,in, deg, 52, 0,N, 30, 0,E, grid, , , ,N
Point02,xy, 4231, 217,in, deg, 52, 0,N, 31, 0,E, grid, , , ,N
Point03,xy, 4257, 4589,in, deg, 51,19.99998,N, 31, 0,E, grid, , , ,N
Point04,xy, 139, 4589,in, deg, 51,19.99998,N, 30, 0,E, grid, , , ,N
Point05,xy, 2197, 2412,in, deg, 51,40.00002,N, 30, 30,E, grid, , , ,N
Point06,xy, 2201, 227,in, deg, 52, 0,N, 30, 30,E, grid, , , ,N
Point07,xy, 155, 2403,in, deg, 51,40.00002,N, 30, 0,E, grid, , , ,N
Point08,xy, 4243, 2405,in, deg, 51,40.00002,N, 31, 0,E, grid, , , ,N
Point09,xy, 2197, 4596,in, deg, 51,19.99998,N, 30, 30,E, grid, , , ,N
Point10,xy, , ,in, deg, , ,N, , ,W, grid, , , ,N
Point11,xy, , ,in, deg, , ,N, , ,W, grid, , , ,N
Point12,xy, , ,in, deg, , ,N, , ,W, grid, , , ,N
Point13,xy, , ,in, deg, , ,N, , ,W, grid, , , ,N
Point14,xy, , ,in, deg, , ,N, , ,W, grid, , , ,N
Point15,xy, , ,in, deg, , ,N, , ,W, grid, , , ,N
Point16,xy, , ,in, deg, , ,N, , ,W, grid, , , ,N
Point17,xy, , ,in, deg, , ,N, , ,W, grid, , , ,N
Point18,xy, , ,in, deg, , ,N, , ,W, grid, , , ,N
Point19,xy, , ,in, deg, , ,N, , ,W, grid, , , ,N
Point20,xy, , ,in, deg, , ,N, , ,W, grid, , , ,N
Point21,xy, , ,in, deg, , ,N, , ,W, grid, , , ,N
Point22,xy, , ,in, deg, , ,N, , ,W, grid, , , ,N
Point23,xy, , ,in, deg, , ,N, , ,W, grid, , , ,N
Point24,xy, , ,in, deg, , ,N, , ,W, grid, , , ,N
Point25,xy, , ,in, deg, , ,N, , ,W, grid, , , ,N
Point26,xy, , ,in, deg, , ,N, , ,W, grid, , , ,N
Point27,xy, , ,in, deg, , ,N, , ,W, grid, , , ,N
Point28,xy, , ,in, deg, , ,N, , ,W, grid, , , ,N
Point29,xy, , ,in, deg, , ,N, , ,W, grid, , , ,N
Point30,xy, , ,in, deg, , ,N, , ,W, grid, , , ,N
Projection Setup, 0.000000000, 33.000000000, 1.000000000, 6500000.00, 0.00,,,,,
Map Feature = MF ; Map Comment = MC These follow if they exist
Track File = TF These follow if they exist
Moving Map Parameters = MM? These follow if they exist
MM0,Yes
MMPNUM,4
MMPXY,1,170,215
MMPXY,2,4231,217
MMPXY,3,4257,4589
MMPXY,4,139,4589
MMPLL,1,30.000000 , 52.000000
MMPLL,2,31.000000 , 52.000000
MMPLL,3,31.000000 , 51.333333
MMPLL,4,30.000000 , 51.333333
MM1B,16.910042
MOP,Map Open Position,0,0
IWH,Map Image Width/Height,4395,4863
