OziExplorer Map Data File Version 2.2
M-35-06
C:\strorry\Maps\Genshtab_2k\m-35-06.ozfx3
1 ,Map Code,
Pulkovo 1942 (1),WGS 84, 0.0000, 0.0000,WGS 84
Reserved 1
Reserved 2
Magnetic Variation,,,E
Map Projection,Transverse Mercator,PolyCal,No,AutoCalOnly,No,BSBUseWPX,No
Point01,xy, 175, 215,in, deg, 52, 0,N, 29, 0,E, grid, , , ,N
Point02,xy, 4243, 219,in, deg, 52, 0,N, 30, 0,E, grid, , , ,N
Point03,xy, 4272, 4597,in, deg, 51,19.99998,N, 30, 0,E, grid, , , ,N
Point04,xy, 140, 4598,in, deg, 51,19.99998,N, 29, 0,E, grid, , , ,N
Point05,xy, 2205, 2412,in, deg, 51,40.00002,N, 29, 30,E, grid, , , ,N
Point06,xy, 2208, 224,in, deg, 52, 0,N, 29, 30,E, grid, , , ,N
Point07,xy, 157, 2408,in, deg, 51,40.00002,N, 29, 0,E, grid, , , ,N
Point08,xy, 4258, 2410,in, deg, 51,40.00002,N, 30, 0,E, grid, , , ,N
Point09,xy, 2206, 4605,in, deg, 51,19.99998,N, 29, 30,E, grid, , , ,N
Point10,xy, , ,in, deg, , ,N, , ,W, grid, , , ,N
Point11,xy, , ,in, deg, , ,N, , ,W, grid, , , ,N
Point12,xy, , ,in, deg, , ,N, , ,W, grid, , , ,N
Point13,xy, , ,in, deg, , ,N, , ,W, grid, , , ,N
Point14,xy, , ,in, deg, , ,N, , ,W, grid, , , ,N
Point15,xy, , ,in, deg, , ,N, , ,W, grid, , , ,N
Point16,xy, , ,in, deg, , ,N, , ,W, grid, , , ,N
Point17,xy, , ,in, deg, , ,N, , ,W, grid, , , ,N
Point18,xy, , ,in, deg, , ,N, , ,W, grid, , , ,N
Point19,xy, , ,in, deg, , ,N, , ,W, grid, , , ,N
Point20,xy, , ,in, deg, , ,N, , ,W, grid, , , ,N
Point21,xy, , ,in, deg, , ,N, , ,W, grid, , , ,N
Point22,xy, , ,in, deg, , ,N, , ,W, grid, , , ,N
Point23,xy, , ,in, deg, , ,N, , ,W, grid, , , ,N
Point24,xy, , ,in, deg, , ,N, , ,W, grid, , , ,N
Point25,xy, , ,in, deg, , ,N, , ,W, grid, , , ,N
Point26,xy, , ,in, deg, , ,N, , ,W, grid, , , ,N
Point27,xy, , ,in, deg, , ,N, , ,W, grid, , , ,N
Point28,xy, , ,in, deg, , ,N, , ,W, grid, , , ,N
Point29,xy, , ,in, deg, , ,N, , ,W, grid, , , ,N
Point30,xy, , ,in, deg, , ,N, , ,W, grid, , , ,N
Projection Setup, 0.000000000, 27.000000000, 1.000000000, 5500000.00, 0.00,,,,,
Map Feature = MF ; Map Comment = MC These follow if they exist
Track File = TF These follow if they exist
Moving Map Parameters = MM? These follow if they exist
MM0,Yes
MMPNUM,4
MMPXY,1,175,215
MMPXY,2,4243,219
MMPXY,3,4272,4597
MMPXY,4,140,4598
MMPLL,1,29.000000 , 52.000000
MMPLL,2,30.000000 , 52.000000
MMPLL,3,30.000000 , 51.333333
MMPLL,4,29.000000 , 51.333333
MM1B,16.862812
MOP,Map Open Position,0,0
IWH,Map Image Width/Height,4414,4863
