OziExplorer Map Data File Version 2.2
M-35-05
C:\strorry\Maps\Genshtab_2k\m-35-05.ozfx3
1 ,Map Code,
Pulkovo 1942 (1),WGS 84, 0.0000, 0.0000,WGS 84
Reserved 1
Reserved 2
Magnetic Variation,,,E
Map Projection,Transverse Mercator,PolyCal,No,AutoCalOnly,No,BSBUseWPX,No
Point01,xy, 193, 126,in, deg, 52, 0,N, 28, 0,E, grid, , , ,N
Point02,xy, 4244, 217,in, deg, 52, 0,N, 29, 0,E, grid, , , ,N
Point03,xy, 4176, 4594,in, deg, 51,19.99998,N, 29, 0,E, grid, , , ,N
Point04,xy, 64, 4500,in, deg, 51,19.99998,N, 28, 0,E, grid, , , ,N
Point05,xy, 2167, 2369,in, deg, 51,40.00002,N, 28, 30,E, grid, , , ,N
Point06,xy, 2214, 179,in, deg, 52, 0,N, 28, 30,E, grid, , , ,N
Point07,xy, 129, 2322,in, deg, 51,40.00002,N, 28, 0,E, grid, , , ,N
Point08,xy, 4210, 2405,in, deg, 51,40.00002,N, 29, 0,E, grid, , , ,N
Point09,xy, 2115, 4552,in, deg, 51,19.99998,N, 28, 30,E, grid, , , ,N
Point10,xy, , ,in, deg, , ,N, , ,W, grid, , , ,N
Point11,xy, , ,in, deg, , ,N, , ,W, grid, , , ,N
Point12,xy, , ,in, deg, , ,N, , ,W, grid, , , ,N
Point13,xy, , ,in, deg, , ,N, , ,W, grid, , , ,N
Point14,xy, , ,in, deg, , ,N, , ,W, grid, , , ,N
Point15,xy, , ,in, deg, , ,N, , ,W, grid, , , ,N
Point16,xy, , ,in, deg, , ,N, , ,W, grid, , , ,N
Point17,xy, , ,in, deg, , ,N, , ,W, grid, , , ,N
Point18,xy, , ,in, deg, , ,N, , ,W, grid, , , ,N
Point19,xy, , ,in, deg, , ,N, , ,W, grid, , , ,N
Point20,xy, , ,in, deg, , ,N, , ,W, grid, , , ,N
Point21,xy, , ,in, deg, , ,N, , ,W, grid, , , ,N
Point22,xy, , ,in, deg, , ,N, , ,W, grid, , , ,N
Point23,xy, , ,in, deg, , ,N, , ,W, grid, , , ,N
Point24,xy, , ,in, deg, , ,N, , ,W, grid, , , ,N
Point25,xy, , ,in, deg, , ,N, , ,W, grid, , , ,N
Point26,xy, , ,in, deg, , ,N, , ,W, grid, , , ,N
Point27,xy, , ,in, deg, , ,N, , ,W, grid, , , ,N
Point28,xy, , ,in, deg, , ,N, , ,W, grid, , , ,N
Point29,xy, , ,in, deg, , ,N, , ,W, grid, , , ,N
Point30,xy, , ,in, deg, , ,N, , ,W, grid, , , ,N
Projection Setup, 0.000000000, 27.000000000, 1.000000000, 5500000.00, 0.00,,,,,
Map Feature = MF ; Map Comment = MC These follow if they exist
Track File = TF These follow if they exist
Moving Map Parameters = MM? These follow if they exist
MM0,Yes
MMPNUM,4
MMPXY,1,193,126
MMPXY,2,4244,217
MMPXY,3,4176,4594
MMPXY,4,64,4500
MMPLL,1,28.000000 , 52.000000
MMPLL,2,29.000000 , 52.000000
MMPLL,3,29.000000 , 51.333333
MMPLL,4,28.000000 , 51.333333
MM1B,16.927978
MOP,Map Open Position,0,0
IWH,Map Image Width/Height,4380,4726
