OziExplorer Map Data File Version 2.2
M-35-04
C:\strorry\Maps\Genshtab_2k\m-35-04.ozfx3
1 ,Map Code,
Pulkovo 1942 (1),WGS 84, 0.0000, 0.0000,WGS 84
Reserved 1
Reserved 2
Magnetic Variation,,,E
Map Projection,Transverse Mercator,PolyCal,No,AutoCalOnly,No,BSBUseWPX,No
Point01,xy, 131, 110,in, deg, 52, 0,N, 27, 0,E, grid, , , ,N
Point02,xy, 4184, 105,in, deg, 52, 0,N, 28, 0,E, grid, , , ,N
Point03,xy, 4222, 4474,in, deg, 51,19.99998,N, 28, 0,E, grid, , , ,N
Point04,xy, 110, 4480,in, deg, 51,19.99998,N, 27, 0,E, grid, , , ,N
Point05,xy, 2161, 2300,in, deg, 51,40.00002,N, 27, 30,E, grid, , , ,N
Point06,xy, 2157, 116,in, deg, 52, 0,N, 27, 30,E, grid, , , ,N
Point07,xy, 122, 2299,in, deg, 51,40.00002,N, 27, 0,E, grid, , , ,N
Point08,xy, 4201, 2292,in, deg, 51,40.00002,N, 28, 0,E, grid, , , ,N
Point09,xy, 2166, 4482,in, deg, 51,19.99998,N, 27, 30,E, grid, , , ,N
Point10,xy, , ,in, deg, , ,N, , ,W, grid, , , ,N
Point11,xy, , ,in, deg, , ,N, , ,W, grid, , , ,N
Point12,xy, , ,in, deg, , ,N, , ,W, grid, , , ,N
Point13,xy, , ,in, deg, , ,N, , ,W, grid, , , ,N
Point14,xy, , ,in, deg, , ,N, , ,W, grid, , , ,N
Point15,xy, , ,in, deg, , ,N, , ,W, grid, , , ,N
Point16,xy, , ,in, deg, , ,N, , ,W, grid, , , ,N
Point17,xy, , ,in, deg, , ,N, , ,W, grid, , , ,N
Point18,xy, , ,in, deg, , ,N, , ,W, grid, , , ,N
Point19,xy, , ,in, deg, , ,N, , ,W, grid, , , ,N
Point20,xy, , ,in, deg, , ,N, , ,W, grid, , , ,N
Point21,xy, , ,in, deg, , ,N, , ,W, grid, , , ,N
Point22,xy, , ,in, deg, , ,N, , ,W, grid, , , ,N
Point23,xy, , ,in, deg, , ,N, , ,W, grid, , , ,N
Point24,xy, , ,in, deg, , ,N, , ,W, grid, , , ,N
Point25,xy, , ,in, deg, , ,N, , ,W, grid, , , ,N
Point26,xy, , ,in, deg, , ,N, , ,W, grid, , , ,N
Point27,xy, , ,in, deg, , ,N, , ,W, grid, , , ,N
Point28,xy, , ,in, deg, , ,N, , ,W, grid, , , ,N
Point29,xy, , ,in, deg, , ,N, , ,W, grid, , , ,N
Point30,xy, , ,in, deg, , ,N, , ,W, grid, , , ,N
Projection Setup, 0.000000000, 27.000000000, 1.000000000, 5500000.00, 0.00,,,,,
Map Feature = MF ; Map Comment = MC These follow if they exist
Track File = TF These follow if they exist
Moving Map Parameters = MM? These follow if they exist
MM0,Yes
MMPNUM,4
MMPXY,1,131,110
MMPXY,2,4184,105
MMPXY,3,4222,4474
MMPXY,4,110,4480
MMPLL,1,27.000000 , 52.000000
MMPLL,2,28.000000 , 52.000000
MMPLL,3,28.000000 , 51.333333
MMPLL,4,27.000000 , 51.333333
MM1B,16.945285
MOP,Map Open Position,0,0
IWH,Map Image Width/Height,4338,4593
