OziExplorer Map Data File Version 2.2
O-35-143 Сергейцево
C:\strorry\Maps\Genshtab_1k\o-35-143.ozfx3
1 ,Map Code,
Pulkovo 1942 (1),WGS 84, 0.0000, 0.0000,WGS 84
Reserved 1
Reserved 2
Magnetic Variation,,,E
Map Projection,Transverse Mercator,PolyCal,No,AutoCalOnly,No,BSBUseWPX,No
Point01,xy, 161, 253,in, deg, 56, 20.0000,N, 29, 0.0000,E, grid, , , ,N
Point02,xy, 3851, 253,in, deg, 56, 20.0000,N, 29, 30.0000,E, grid, , , ,N
Point03,xy, 3865, 4646,in, deg, 56, 0.0000,N, 29, 30.0000,E, grid, , , ,N
Point04,xy, 147, 4647,in, deg, 56, 0.0000,N, 29, 0.0000,E, grid, , , ,N
Point05,xy, 2004, 2454,in, deg, 56, 10.0000,N, 29, 15.0000,E, grid, , , ,N
Point06,xy, 2007, 257,in, deg, 56, 20.0000,N, 29, 15.0000,E, grid, , , ,N
Point07,xy, 153, 2451,in, deg, 56, 10.0000,N, 29, 0.0000,E, grid, , , ,N
Point08,xy, 3859, 2449,in, deg, 56, 10.0000,N, 29, 30.0000,E, grid, , , ,N
Point09,xy, 2005, 4652,in, deg, 56, 0.0000,N, 29, 15.0000,E, grid, , , ,N
Point10,xy, , ,in, deg, , ,N, , ,W, grid, , , ,N
Point11,xy, , ,in, deg, , ,N, , ,W, grid, , , ,N
Point12,xy, , ,in, deg, , ,N, , ,W, grid, , , ,N
Point13,xy, , ,in, deg, , ,N, , ,W, grid, , , ,N
Point14,xy, , ,in, deg, , ,N, , ,W, grid, , , ,N
Point15,xy, , ,in, deg, , ,N, , ,W, grid, , , ,N
Point16,xy, , ,in, deg, , ,N, , ,W, grid, , , ,N
Point17,xy, , ,in, deg, , ,N, , ,W, grid, , , ,N
Point18,xy, , ,in, deg, , ,N, , ,W, grid, , , ,N
Point19,xy, , ,in, deg, , ,N, , ,W, grid, , , ,N
Point20,xy, , ,in, deg, , ,N, , ,W, grid, , , ,N
Point21,xy, , ,in, deg, , ,N, , ,W, grid, , , ,N
Point22,xy, , ,in, deg, , ,N, , ,W, grid, , , ,N
Point23,xy, , ,in, deg, , ,N, , ,W, grid, , , ,N
Point24,xy, , ,in, deg, , ,N, , ,W, grid, , , ,N
Point25,xy, , ,in, deg, , ,N, , ,W, grid, , , ,N
Point26,xy, , ,in, deg, , ,N, , ,W, grid, , , ,N
Point27,xy, , ,in, deg, , ,N, , ,W, grid, , , ,N
Point28,xy, , ,in, deg, , ,N, , ,W, grid, , , ,N
Point29,xy, , ,in, deg, , ,N, , ,W, grid, , , ,N
Point30,xy, , ,in, deg, , ,N, , ,W, grid, , , ,N
Projection Setup, 0.000000000, 27.000000000, 1.000000000, 5500000.00, 0.00,,,,,
Map Feature = MF ; Map Comment = MC These follow if they exist
Track File = TF These follow if they exist
Moving Map Parameters = MM? These follow if they exist
MM0,Yes
MMPNUM,4
MMPXY,1,162,253
MMPXY,2,3851,253
MMPXY,3,3865,4646
MMPXY,4,147,4648
MMPLL,1,29.000026,56.333396
MMPLL,2,29.500080,56.333303
MMPLL,3,29.499894,56.000063
MMPLL,4,29.000258,55.999970
MM1B,8.378945
MOP,Map Open Position,0,0
IWH,Map Image Width/Height,4014,5099
