OziExplorer Map Data File Version 2.2
O-35-142 Идрица
C:\strorry\Maps\Genshtab_1k\o-35-142.ozfx3
1 ,Map Code,
Pulkovo 1942 (1),WGS 84, 0.0000, 0.0000,WGS 84
Reserved 1
Reserved 2
Magnetic Variation,,,E
Map Projection,Transverse Mercator,PolyCal,No,AutoCalOnly,No,BSBUseWPX,No
Point01,xy, 164, 262,in, deg, 56, 20.0000,N, 28, 30.0000,E, grid, , , ,N
Point02,xy, 3853, 259,in, deg, 56, 20.0000,N, 29, 0.0000,E, grid, , , ,N
Point03,xy, 3866, 4659,in, deg, 56, 0.0000,N, 29, 0.0000,E, grid, , , ,N
Point04,xy, 148, 4658,in, deg, 56, 0.0000,N, 28, 30.0000,E, grid, , , ,N
Point05,xy, 2010, 2460,in, deg, 56, 10.0000,N, 28, 45.0000,E, grid, , , ,N
Point06,xy, 2011, 265,in, deg, 56, 20.0000,N, 28, 45.0000,E, grid, , , ,N
Point07,xy, 156, 2461,in, deg, 56, 10.0000,N, 28, 30.0000,E, grid, , , ,N
Point08,xy, 3860, 2460,in, deg, 56, 10.0000,N, 29, 0.0000,E, grid, , , ,N
Point09,xy, 2009, 4662,in, deg, 56, 0.0000,N, 28, 45.0000,E, grid, , , ,N
Point10,xy, , ,in, deg, , ,N, , ,W, grid, , , ,N
Point11,xy, , ,in, deg, , ,N, , ,W, grid, , , ,N
Point12,xy, , ,in, deg, , ,N, , ,W, grid, , , ,N
Point13,xy, , ,in, deg, , ,N, , ,W, grid, , , ,N
Point14,xy, , ,in, deg, , ,N, , ,W, grid, , , ,N
Point15,xy, , ,in, deg, , ,N, , ,W, grid, , , ,N
Point16,xy, , ,in, deg, , ,N, , ,W, grid, , , ,N
Point17,xy, , ,in, deg, , ,N, , ,W, grid, , , ,N
Point18,xy, , ,in, deg, , ,N, , ,W, grid, , , ,N
Point19,xy, , ,in, deg, , ,N, , ,W, grid, , , ,N
Point20,xy, , ,in, deg, , ,N, , ,W, grid, , , ,N
Point21,xy, , ,in, deg, , ,N, , ,W, grid, , , ,N
Point22,xy, , ,in, deg, , ,N, , ,W, grid, , , ,N
Point23,xy, , ,in, deg, , ,N, , ,W, grid, , , ,N
Point24,xy, , ,in, deg, , ,N, , ,W, grid, , , ,N
Point25,xy, , ,in, deg, , ,N, , ,W, grid, , , ,N
Point26,xy, , ,in, deg, , ,N, , ,W, grid, , , ,N
Point27,xy, , ,in, deg, , ,N, , ,W, grid, , , ,N
Point28,xy, , ,in, deg, , ,N, , ,W, grid, , , ,N
Point29,xy, , ,in, deg, , ,N, , ,W, grid, , , ,N
Point30,xy, , ,in, deg, , ,N, , ,W, grid, , , ,N
Projection Setup, 0.000000000, 27.000000000, 1.000000000, 5500000.00, 0.00,,,,,
Map Feature = MF ; Map Comment = MC These follow if they exist
Track File = TF These follow if they exist
Moving Map Parameters = MM? These follow if they exist
MM0,Yes
MMPNUM,4
MMPXY,1,165,262
MMPXY,2,3853,260
MMPXY,3,3866,4659
MMPXY,4,149,4660
MMPLL,1,28.499922,56.333280
MMPLL,2,28.999974,56.333343
MMPLL,3,28.999789,55.999922
MMPLL,4,28.500153,55.999908
MM1B,8.382158
MOP,Map Open Position,0,0
IWH,Map Image Width/Height,4016,5095
