OziExplorer Map Data File Version 2.2
N-36-136 Чуровичи
C:\strorry\Maps\Genshtab_1k\n-36-136.ozfx3
1 ,Map Code,
Pulkovo 1942 (1),WGS 84, 0.0000, 0.0000,WGS 84
Reserved 1
Reserved 2
Magnetic Variation,,,E
Map Projection,Transverse Mercator,PolyCal,No,AutoCalOnly,No,BSBUseWPX,No
Point01,xy, 165, 259,in, deg, 52, 20.0000,N, 31, 30.0000,E, grid, , , ,N
Point02,xy, 4192, 258,in, deg, 52, 20.0000,N, 32, 0.0000,E, grid, , , ,N
Point03,xy, 4206, 4645,in, deg, 52, 0.0000,N, 32, 0.0000,E, grid, , , ,N
Point04,xy, 149, 4645,in, deg, 52, 0.0000,N, 31, 30.0000,E, grid, , , ,N
Point05,xy, 2178, 2457,in, deg, 52, 10.0000,N, 31, 45.0000,E, grid, , , ,N
Point06,xy, 2178, 261,in, deg, 52, 20.0000,N, 31, 45.0000,E, grid, , , ,N
Point07,xy, 157, 2453,in, deg, 52, 10.0000,N, 31, 30.0000,E, grid, , , ,N
Point08,xy, 4200, 2450,in, deg, 52, 10.0000,N, 32, 0.0000,E, grid, , , ,N
Point09,xy, 2176, 4649,in, deg, 52, 0.0000,N, 31, 45.0000,E, grid, , , ,N
Point10,xy, , ,in, deg, , ,N, , ,W, grid, , , ,N
Point11,xy, , ,in, deg, , ,N, , ,W, grid, , , ,N
Point12,xy, , ,in, deg, , ,N, , ,W, grid, , , ,N
Point13,xy, , ,in, deg, , ,N, , ,W, grid, , , ,N
Point14,xy, , ,in, deg, , ,N, , ,W, grid, , , ,N
Point15,xy, , ,in, deg, , ,N, , ,W, grid, , , ,N
Point16,xy, , ,in, deg, , ,N, , ,W, grid, , , ,N
Point17,xy, , ,in, deg, , ,N, , ,W, grid, , , ,N
Point18,xy, , ,in, deg, , ,N, , ,W, grid, , , ,N
Point19,xy, , ,in, deg, , ,N, , ,W, grid, , , ,N
Point20,xy, , ,in, deg, , ,N, , ,W, grid, , , ,N
Point21,xy, , ,in, deg, , ,N, , ,W, grid, , , ,N
Point22,xy, , ,in, deg, , ,N, , ,W, grid, , , ,N
Point23,xy, , ,in, deg, , ,N, , ,W, grid, , , ,N
Point24,xy, , ,in, deg, , ,N, , ,W, grid, , , ,N
Point25,xy, , ,in, deg, , ,N, , ,W, grid, , , ,N
Point26,xy, , ,in, deg, , ,N, , ,W, grid, , , ,N
Point27,xy, , ,in, deg, , ,N, , ,W, grid, , , ,N
Point28,xy, , ,in, deg, , ,N, , ,W, grid, , , ,N
Point29,xy, , ,in, deg, , ,N, , ,W, grid, , , ,N
Point30,xy, , ,in, deg, , ,N, , ,W, grid, , , ,N
Projection Setup, 0.000000000, 33.000000000, 1.000000000, 6500000.00, 0.00,,,,,
Map Feature = MF ; Map Comment = MC These follow if they exist
Track File = TF These follow if they exist
Moving Map Parameters = MM? These follow if they exist
MM0,Yes
MMPNUM,4
MMPXY,1,165,259
MMPXY,2,4192,258
MMPXY,3,4206,4645
MMPXY,4,149,4645
MMPLL,1,31.500007,52.333327
MMPLL,2,31.999979,52.333314
MMPLL,3,32.000007,51.999968
MMPLL,4,31.500060,52.000082
MM1B,8.459446
MOP,Map Open Position,0,0
IWH,Map Image Width/Height,4357,4886
