OziExplorer Map Data File Version 2.2
N-36-124 Новозыбков
C:\strorry\Maps\Genshtab_1k\n-36-124.ozfx3
1 ,Map Code,
Pulkovo 1942 (1),WGS 84, 0.0000, 0.0000,WGS 84
Reserved 1
Reserved 2
Magnetic Variation,,,E
Map Projection,Transverse Mercator,PolyCal,No,AutoCalOnly,No,BSBUseWPX,No
Point01,xy, 164, 251,in, deg, 52, 40.0000,N, 31, 30.0000,E, grid, , , ,N
Point02,xy, 4162, 252,in, deg, 52, 40.0000,N, 32, 0.0000,E, grid, , , ,N
Point03,xy, 4176, 4640,in, deg, 52, 20.0000,N, 32, 0.0000,E, grid, , , ,N
Point04,xy, 146, 4641,in, deg, 52, 20.0000,N, 31, 30.0000,E, grid, , , ,N
Point05,xy, 2161, 2453,in, deg, 52, 30.0000,N, 31, 45.0000,E, grid, , , ,N
Point06,xy, 2163, 254,in, deg, 52, 40.0000,N, 31, 45.0000,E, grid, , , ,N
Point07,xy, 156, 2444,in, deg, 52, 30.0000,N, 31, 30.0000,E, grid, , , ,N
Point08,xy, 4169, 2445,in, deg, 52, 30.0000,N, 32, 0.0000,E, grid, , , ,N
Point09,xy, 2160, 4644,in, deg, 52, 20.0000,N, 31, 45.0000,E, grid, , , ,N
Point10,xy, , ,in, deg, , ,N, , ,W, grid, , , ,N
Point11,xy, , ,in, deg, , ,N, , ,W, grid, , , ,N
Point12,xy, , ,in, deg, , ,N, , ,W, grid, , , ,N
Point13,xy, , ,in, deg, , ,N, , ,W, grid, , , ,N
Point14,xy, , ,in, deg, , ,N, , ,W, grid, , , ,N
Point15,xy, , ,in, deg, , ,N, , ,W, grid, , , ,N
Point16,xy, , ,in, deg, , ,N, , ,W, grid, , , ,N
Point17,xy, , ,in, deg, , ,N, , ,W, grid, , , ,N
Point18,xy, , ,in, deg, , ,N, , ,W, grid, , , ,N
Point19,xy, , ,in, deg, , ,N, , ,W, grid, , , ,N
Point20,xy, , ,in, deg, , ,N, , ,W, grid, , , ,N
Point21,xy, , ,in, deg, , ,N, , ,W, grid, , , ,N
Point22,xy, , ,in, deg, , ,N, , ,W, grid, , , ,N
Point23,xy, , ,in, deg, , ,N, , ,W, grid, , , ,N
Point24,xy, , ,in, deg, , ,N, , ,W, grid, , , ,N
Point25,xy, , ,in, deg, , ,N, , ,W, grid, , , ,N
Point26,xy, , ,in, deg, , ,N, , ,W, grid, , , ,N
Point27,xy, , ,in, deg, , ,N, , ,W, grid, , , ,N
Point28,xy, , ,in, deg, , ,N, , ,W, grid, , , ,N
Point29,xy, , ,in, deg, , ,N, , ,W, grid, , , ,N
Point30,xy, , ,in, deg, , ,N, , ,W, grid, , , ,N
Projection Setup, 0.000000000, 33.000000000, 1.000000000, 6500000.00, 0.00,,,,,
Map Feature = MF ; Map Comment = MC These follow if they exist
Track File = TF These follow if they exist
Moving Map Parameters = MM? These follow if they exist
MM0,Yes
MMPNUM,4
MMPXY,1,164,251
MMPXY,2,4163,251
MMPXY,3,4176,4640
MMPXY,4,146,4641
MMPLL,1,31.500023,52.666669
MMPLL,2,32.000088,52.666706
MMPLL,3,32.000106,52.333386
MMPLL,4,31.499963,52.333297
MM1B,8.456088
MOP,Map Open Position,0,0
IWH,Map Image Width/Height,4325,4794
