OziExplorer Map Data File Version 2.2
N-36-121 Речица
C:\strorry\Maps\Genshtab_1k\n-36-121.ozfx3
1 ,Map Code,
Pulkovo 1942 (1),WGS 84, 0.0000, 0.0000,WGS 84
Reserved 1
Reserved 2
Magnetic Variation,,,E
Map Projection,Transverse Mercator,PolyCal,No,AutoCalOnly,No,BSBUseWPX,No
Point01,xy, 171, 259,in, deg, 52, 40.0000,N, 30, 0.0000,E, grid, , , ,N
Point02,xy, 4210, 257,in, deg, 52, 40.0000,N, 30, 30.0000,E, grid, , , ,N
Point03,xy, 4220, 4637,in, deg, 52, 20.0000,N, 30, 30.0000,E, grid, , , ,N
Point04,xy, 157, 4635,in, deg, 52, 20.0000,N, 30, 0.0000,E, grid, , , ,N
Point05,xy, 2189, 2452,in, deg, 52, 30.0000,N, 30, 15.0000,E, grid, , , ,N
Point06,xy, 2191, 263,in, deg, 52, 40.0000,N, 30, 15.0000,E, grid, , , ,N
Point07,xy, 164, 2450,in, deg, 52, 30.0000,N, 30, 0.0000,E, grid, , , ,N
Point08,xy, 4216, 2443,in, deg, 52, 30.0000,N, 30, 30.0000,E, grid, , , ,N
Point09,xy, 2187, 4638,in, deg, 52, 20.0000,N, 30, 15.0000,E, grid, , , ,N
Point10,xy, , ,in, deg, , ,N, , ,W, grid, , , ,N
Point11,xy, , ,in, deg, , ,N, , ,W, grid, , , ,N
Point12,xy, , ,in, deg, , ,N, , ,W, grid, , , ,N
Point13,xy, , ,in, deg, , ,N, , ,W, grid, , , ,N
Point14,xy, , ,in, deg, , ,N, , ,W, grid, , , ,N
Point15,xy, , ,in, deg, , ,N, , ,W, grid, , , ,N
Point16,xy, , ,in, deg, , ,N, , ,W, grid, , , ,N
Point17,xy, , ,in, deg, , ,N, , ,W, grid, , , ,N
Point18,xy, , ,in, deg, , ,N, , ,W, grid, , , ,N
Point19,xy, , ,in, deg, , ,N, , ,W, grid, , , ,N
Point20,xy, , ,in, deg, , ,N, , ,W, grid, , , ,N
Point21,xy, , ,in, deg, , ,N, , ,W, grid, , , ,N
Point22,xy, , ,in, deg, , ,N, , ,W, grid, , , ,N
Point23,xy, , ,in, deg, , ,N, , ,W, grid, , , ,N
Point24,xy, , ,in, deg, , ,N, , ,W, grid, , , ,N
Point25,xy, , ,in, deg, , ,N, , ,W, grid, , , ,N
Point26,xy, , ,in, deg, , ,N, , ,W, grid, , , ,N
Point27,xy, , ,in, deg, , ,N, , ,W, grid, , , ,N
Point28,xy, , ,in, deg, , ,N, , ,W, grid, , , ,N
Point29,xy, , ,in, deg, , ,N, , ,W, grid, , , ,N
Point30,xy, , ,in, deg, , ,N, , ,W, grid, , , ,N
Projection Setup, 0.000000000, 33.000000000, 1.000000000, 6500000.00, 0.00,,,,,
Map Feature = MF ; Map Comment = MC These follow if they exist
Track File = TF These follow if they exist
Moving Map Parameters = MM? These follow if they exist
MM0,Yes
MMPNUM,4
MMPXY,1,171,259
MMPXY,2,4210,258
MMPXY,3,4220,4637
MMPXY,4,156,4635
MMPLL,1,29.999778,52.666708
MMPLL,2,30.500151,52.666633
MMPLL,3,30.499822,52.333122
MMPLL,4,30.000148,52.333478
MM1B,8.375317
MOP,Map Open Position,0,0
IWH,Map Image Width/Height,4375,5075
