OziExplorer Map Data File Version 2.2
N-36-111 Светиловичи
C:\strorry\Maps\Genshtab_1k\n-36-111.ozfx3
1 ,Map Code,
Pulkovo 1942 (1),WGS 84, 0.0000, 0.0000,WGS 84
Reserved 1
Reserved 2
Magnetic Variation,,,E
Map Projection,Transverse Mercator,PolyCal,No,AutoCalOnly,No,BSBUseWPX,No
Point01,xy, 165, 267,in, deg, 53, 0.0000,N, 31, 0.0000,E, grid, , , ,N
Point02,xy, 4162, 267,in, deg, 53, 0.0000,N, 31, 30.0000,E, grid, , , ,N
Point03,xy, 4178, 4649,in, deg, 52, 40.0000,N, 31, 30.0000,E, grid, , , ,N
Point04,xy, 151, 4657,in, deg, 52, 40.0000,N, 31, 0.0000,E, grid, , , ,N
Point05,xy, 2163, 2467,in, deg, 52, 50.0000,N, 31, 15.0000,E, grid, , , ,N
Point06,xy, 2165, 272,in, deg, 53, 0.0000,N, 31, 15.0000,E, grid, , , ,N
Point07,xy, 158, 2458,in, deg, 52, 50.0000,N, 31, 0.0000,E, grid, , , ,N
Point08,xy, 4171, 2463,in, deg, 52, 50.0000,N, 31, 30.0000,E, grid, , , ,N
Point09,xy, 2165, 4663,in, deg, 52, 40.0000,N, 31, 15.0000,E, grid, , , ,N
Point10,xy, , ,in, deg, , ,N, , ,W, grid, , , ,N
Point11,xy, , ,in, deg, , ,N, , ,W, grid, , , ,N
Point12,xy, , ,in, deg, , ,N, , ,W, grid, , , ,N
Point13,xy, , ,in, deg, , ,N, , ,W, grid, , , ,N
Point14,xy, , ,in, deg, , ,N, , ,W, grid, , , ,N
Point15,xy, , ,in, deg, , ,N, , ,W, grid, , , ,N
Point16,xy, , ,in, deg, , ,N, , ,W, grid, , , ,N
Point17,xy, , ,in, deg, , ,N, , ,W, grid, , , ,N
Point18,xy, , ,in, deg, , ,N, , ,W, grid, , , ,N
Point19,xy, , ,in, deg, , ,N, , ,W, grid, , , ,N
Point20,xy, , ,in, deg, , ,N, , ,W, grid, , , ,N
Point21,xy, , ,in, deg, , ,N, , ,W, grid, , , ,N
Point22,xy, , ,in, deg, , ,N, , ,W, grid, , , ,N
Point23,xy, , ,in, deg, , ,N, , ,W, grid, , , ,N
Point24,xy, , ,in, deg, , ,N, , ,W, grid, , , ,N
Point25,xy, , ,in, deg, , ,N, , ,W, grid, , , ,N
Point26,xy, , ,in, deg, , ,N, , ,W, grid, , , ,N
Point27,xy, , ,in, deg, , ,N, , ,W, grid, , , ,N
Point28,xy, , ,in, deg, , ,N, , ,W, grid, , , ,N
Point29,xy, , ,in, deg, , ,N, , ,W, grid, , , ,N
Point30,xy, , ,in, deg, , ,N, , ,W, grid, , , ,N
Projection Setup, 0.000000000, 33.000000000, 1.000000000, 6500000.00, 0.00,,,,,
Map Feature = MF ; Map Comment = MC These follow if they exist
Track File = TF These follow if they exist
Moving Map Parameters = MM? These follow if they exist
MM0,Yes
MMPNUM,4
MMPXY,1,164,266
MMPXY,2,4162,267
MMPXY,3,4178,4650
MMPXY,4,151,4657
MMPLL,1,30.999823,53.000148
MMPLL,2,31.499953,53.000012
MMPLL,3,31.499952,52.667017
MMPLL,4,31.000036,52.666578
MM1B,8.394183
MOP,Map Open Position,0,0
IWH,Map Image Width/Height,4328,5098
