OziExplorer Map Data File Version 2.2
N-36-109 Æëîáèí
C:\strorry\Maps\Genshtab_1k\n-36-109.ozfx3
1 ,Map Code,
Pulkovo 1942 (1),WGS 84, 0.0000, 0.0000,WGS 84
Reserved 1
Reserved 2
Magnetic Variation,,,E
Map Projection,Transverse Mercator,PolyCal,No,AutoCalOnly,No,BSBUseWPX,No
Point01,xy, 162, 262,in, deg, 53, 0.0000,N, 30, 0.0000,E, grid, , , ,N
Point02,xy, 4162, 259,in, deg, 53, 0.0000,N, 30, 30.0000,E, grid, , , ,N
Point03,xy, 4183, 4641,in, deg, 52, 40.0000,N, 30, 30.0000,E, grid, , , ,N
Point04,xy, 155, 4648,in, deg, 52, 40.0000,N, 30, 0.0000,E, grid, , , ,N
Point05,xy, 2165, 2451,in, deg, 52, 50.0000,N, 30, 15.0000,E, grid, , , ,N
Point06,xy, 2161, 261,in, deg, 53, 0.0000,N, 30, 15.0000,E, grid, , , ,N
Point07,xy, 157, 2454,in, deg, 52, 50.0000,N, 30, 0.0000,E, grid, , , ,N
Point08,xy, 4174, 2449,in, deg, 52, 50.0000,N, 30, 30.0000,E, grid, , , ,N
Point09,xy, 2170, 4648,in, deg, 52, 40.0000,N, 30, 15.0000,E, grid, , , ,N
Point10,xy, , ,in, deg, , ,N, , ,W, grid, , , ,N
Point11,xy, , ,in, deg, , ,N, , ,W, grid, , , ,N
Point12,xy, , ,in, deg, , ,N, , ,W, grid, , , ,N
Point13,xy, , ,in, deg, , ,N, , ,W, grid, , , ,N
Point14,xy, , ,in, deg, , ,N, , ,W, grid, , , ,N
Point15,xy, , ,in, deg, , ,N, , ,W, grid, , , ,N
Point16,xy, , ,in, deg, , ,N, , ,W, grid, , , ,N
Point17,xy, , ,in, deg, , ,N, , ,W, grid, , , ,N
Point18,xy, , ,in, deg, , ,N, , ,W, grid, , , ,N
Point19,xy, , ,in, deg, , ,N, , ,W, grid, , , ,N
Point20,xy, , ,in, deg, , ,N, , ,W, grid, , , ,N
Point21,xy, , ,in, deg, , ,N, , ,W, grid, , , ,N
Point22,xy, , ,in, deg, , ,N, , ,W, grid, , , ,N
Point23,xy, , ,in, deg, , ,N, , ,W, grid, , , ,N
Point24,xy, , ,in, deg, , ,N, , ,W, grid, , , ,N
Point25,xy, , ,in, deg, , ,N, , ,W, grid, , , ,N
Point26,xy, , ,in, deg, , ,N, , ,W, grid, , , ,N
Point27,xy, , ,in, deg, , ,N, , ,W, grid, , , ,N
Point28,xy, , ,in, deg, , ,N, , ,W, grid, , , ,N
Point29,xy, , ,in, deg, , ,N, , ,W, grid, , , ,N
Point30,xy, , ,in, deg, , ,N, , ,W, grid, , , ,N
Projection Setup, 0.000000000, 33.000000000, 1.000000000, 6500000.00, 0.00,,,,,
Map Feature = MF ; Map Comment = MC These follow if they exist
Track File = TF These follow if they exist
Moving Map Parameters = MM? These follow if they exist
MM0,Yes
MMPNUM,4
MMPXY,1,162,262
MMPXY,2,4162,259
MMPXY,3,4182,4641
MMPXY,4,154,4648
MMPLL,1,30.000024,52.999941
MMPLL,2,30.500071,52.999815
MMPLL,3,30.499694,52.666683
MMPLL,4,29.999988,52.666558
MM1B,8.386691
MOP,Map Open Position,0,0
IWH,Map Image Width/Height,4336,5093
