OziExplorer Map Data File Version 2.2
N-36-101 Сураж
C:\strorry\Maps\Genshtab_1k\n-36-101.ozfx3
1 ,Map Code,
Pulkovo 1942 (1),WGS 84, 0.0000, 0.0000,WGS 84
Reserved 1
Reserved 2
Magnetic Variation,,,E
Map Projection,Transverse Mercator,PolyCal,No,AutoCalOnly,No,BSBUseWPX,No
Point01,xy, 139, 260,in, deg, 53, 20.0000,N, 32, 0.0000,E, grid, , , ,N
Point02,xy, 4076, 258,in, deg, 53, 20.0000,N, 32, 30.0000,E, grid, , , ,N
Point03,xy, 4093, 4647,in, deg, 53, 0.0000,N, 32, 30.0000,E, grid, , , ,N
Point04,xy, 124, 4651,in, deg, 53, 0.0000,N, 32, 0.0000,E, grid, , , ,N
Point05,xy, 2105, 2457,in, deg, 53, 10.0000,N, 32, 15.0000,E, grid, , , ,N
Point06,xy, 2105, 264,in, deg, 53, 20.0000,N, 32, 15.0000,E, grid, , , ,N
Point07,xy, 131, 2455,in, deg, 53, 10.0000,N, 32, 0.0000,E, grid, , , ,N
Point08,xy, 4084, 2450,in, deg, 53, 10.0000,N, 32, 30.0000,E, grid, , , ,N
Point09,xy, 2106, 4653,in, deg, 53, 0.0000,N, 32, 15.0000,E, grid, , , ,N
Point10,xy, , ,in, deg, , ,N, , ,W, grid, , , ,N
Point11,xy, , ,in, deg, , ,N, , ,W, grid, , , ,N
Point12,xy, , ,in, deg, , ,N, , ,W, grid, , , ,N
Point13,xy, , ,in, deg, , ,N, , ,W, grid, , , ,N
Point14,xy, , ,in, deg, , ,N, , ,W, grid, , , ,N
Point15,xy, , ,in, deg, , ,N, , ,W, grid, , , ,N
Point16,xy, , ,in, deg, , ,N, , ,W, grid, , , ,N
Point17,xy, , ,in, deg, , ,N, , ,W, grid, , , ,N
Point18,xy, , ,in, deg, , ,N, , ,W, grid, , , ,N
Point19,xy, , ,in, deg, , ,N, , ,W, grid, , , ,N
Point20,xy, , ,in, deg, , ,N, , ,W, grid, , , ,N
Point21,xy, , ,in, deg, , ,N, , ,W, grid, , , ,N
Point22,xy, , ,in, deg, , ,N, , ,W, grid, , , ,N
Point23,xy, , ,in, deg, , ,N, , ,W, grid, , , ,N
Point24,xy, , ,in, deg, , ,N, , ,W, grid, , , ,N
Point25,xy, , ,in, deg, , ,N, , ,W, grid, , , ,N
Point26,xy, , ,in, deg, , ,N, , ,W, grid, , , ,N
Point27,xy, , ,in, deg, , ,N, , ,W, grid, , , ,N
Point28,xy, , ,in, deg, , ,N, , ,W, grid, , , ,N
Point29,xy, , ,in, deg, , ,N, , ,W, grid, , , ,N
Point30,xy, , ,in, deg, , ,N, , ,W, grid, , , ,N
Projection Setup, 0.000000000, 33.000000000, 1.000000000, 6500000.00, 0.00,,,,,
Map Feature = MF ; Map Comment = MC These follow if they exist
Track File = TF These follow if they exist
Moving Map Parameters = MM? These follow if they exist
MM0,Yes
MMPNUM,4
MMPXY,1,139,260
MMPXY,2,4076,258
MMPXY,3,4093,4647
MMPXY,4,124,4650
MMPLL,1,32.000169,53.333393
MMPLL,2,32.500083,53.333274
MMPLL,3,32.500169,52.999983
MMPLL,4,32.000082,53.000042
MM1B,8.455631
MOP,Map Open Position,0,0
IWH,Map Image Width/Height,4214,4896
