OziExplorer Map Data File Version 2.2
N-36-099 Перелазы
C:\strorry\Maps\Genshtab_1k\n-36-099.ozfx3
1 ,Map Code,
Pulkovo 1942 (1),WGS 84, 0.0000, 0.0000,WGS 84
Reserved 1
Reserved 2
Magnetic Variation,,,E
Map Projection,Transverse Mercator,PolyCal,No,AutoCalOnly,No,BSBUseWPX,No
Point01,xy, 168, 253,in, deg, 53, 20.0000,N, 31, 0.0000,E, grid, , , ,N
Point02,xy, 4142, 256,in, deg, 53, 20.0000,N, 31, 30.0000,E, grid, , , ,N
Point03,xy, 4157, 4648,in, deg, 53, 0.0000,N, 31, 30.0000,E, grid, , , ,N
Point04,xy, 154, 4646,in, deg, 53, 0.0000,N, 31, 0.0000,E, grid, , , ,N
Point05,xy, 2153, 2454,in, deg, 53, 10.0000,N, 31, 15.0000,E, grid, , , ,N
Point06,xy, 2158, 257,in, deg, 53, 20.0000,N, 31, 15.0000,E, grid, , , ,N
Point07,xy, 159, 2451,in, deg, 53, 10.0000,N, 31, 0.0000,E, grid, , , ,N
Point08,xy, 4150, 2450,in, deg, 53, 10.0000,N, 31, 30.0000,E, grid, , , ,N
Point09,xy, 2156, 4651,in, deg, 53, 0.0000,N, 31, 15.0000,E, grid, , , ,N
Point10,xy, , ,in, deg, , ,N, , ,W, grid, , , ,N
Point11,xy, , ,in, deg, , ,N, , ,W, grid, , , ,N
Point12,xy, , ,in, deg, , ,N, , ,W, grid, , , ,N
Point13,xy, , ,in, deg, , ,N, , ,W, grid, , , ,N
Point14,xy, , ,in, deg, , ,N, , ,W, grid, , , ,N
Point15,xy, , ,in, deg, , ,N, , ,W, grid, , , ,N
Point16,xy, , ,in, deg, , ,N, , ,W, grid, , , ,N
Point17,xy, , ,in, deg, , ,N, , ,W, grid, , , ,N
Point18,xy, , ,in, deg, , ,N, , ,W, grid, , , ,N
Point19,xy, , ,in, deg, , ,N, , ,W, grid, , , ,N
Point20,xy, , ,in, deg, , ,N, , ,W, grid, , , ,N
Point21,xy, , ,in, deg, , ,N, , ,W, grid, , , ,N
Point22,xy, , ,in, deg, , ,N, , ,W, grid, , , ,N
Point23,xy, , ,in, deg, , ,N, , ,W, grid, , , ,N
Point24,xy, , ,in, deg, , ,N, , ,W, grid, , , ,N
Point25,xy, , ,in, deg, , ,N, , ,W, grid, , , ,N
Point26,xy, , ,in, deg, , ,N, , ,W, grid, , , ,N
Point27,xy, , ,in, deg, , ,N, , ,W, grid, , , ,N
Point28,xy, , ,in, deg, , ,N, , ,W, grid, , , ,N
Point29,xy, , ,in, deg, , ,N, , ,W, grid, , , ,N
Point30,xy, , ,in, deg, , ,N, , ,W, grid, , , ,N
Projection Setup, 0.000000000, 33.000000000, 1.000000000, 6500000.00, 0.00,,,,,
Map Feature = MF ; Map Comment = MC These follow if they exist
Track File = TF These follow if they exist
Moving Map Parameters = MM? These follow if they exist
MM0,Yes
MMPNUM,4
MMPXY,1,169,253
MMPXY,2,4142,255
MMPXY,3,4156,4648
MMPXY,4,154,4646
MMPLL,1,31.000068,53.333360
MMPLL,2,31.499959,53.333325
MMPLL,3,31.499818,52.999976
MMPLL,4,31.000166,53.000042
MM1B,8.377886
MOP,Map Open Position,0,0
IWH,Map Image Width/Height,4306,5103
