OziExplorer Map Data File Version 2.2
N-36-098 Корма
C:\strorry\Maps\Genshtab_1k\n-36-098.ozfx3
1 ,Map Code,
Pulkovo 1942 (1),WGS 84, 0.0000, 0.0000,WGS 84
Reserved 1
Reserved 2
Magnetic Variation,,,E
Map Projection,Transverse Mercator,PolyCal,No,AutoCalOnly,No,BSBUseWPX,No
Point01,xy, 162, 256,in, deg, 53, 20.0000,N, 30, 30.0000,E, grid, , , ,N
Point02,xy, 4137, 255,in, deg, 53, 20.0000,N, 31, 0.0000,E, grid, , , ,N
Point03,xy, 4150, 4650,in, deg, 53, 0.0000,N, 31, 0.0000,E, grid, , , ,N
Point04,xy, 147, 4651,in, deg, 53, 0.0000,N, 30, 30.0000,E, grid, , , ,N
Point05,xy, 2149, 2456,in, deg, 53, 10.0000,N, 30, 45.0000,E, grid, , , ,N
Point06,xy, 2150, 261,in, deg, 53, 20.0000,N, 30, 45.0000,E, grid, , , ,N
Point07,xy, 154, 2450,in, deg, 53, 10.0000,N, 30, 30.0000,E, grid, , , ,N
Point08,xy, 4146, 2449,in, deg, 53, 10.0000,N, 31, 0.0000,E, grid, , , ,N
Point09,xy, 2149, 4652,in, deg, 53, 0.0000,N, 30, 45.0000,E, grid, , , ,N
Point10,xy, , ,in, deg, , ,N, , ,W, grid, , , ,N
Point11,xy, , ,in, deg, , ,N, , ,W, grid, , , ,N
Point12,xy, , ,in, deg, , ,N, , ,W, grid, , , ,N
Point13,xy, , ,in, deg, , ,N, , ,W, grid, , , ,N
Point14,xy, , ,in, deg, , ,N, , ,W, grid, , , ,N
Point15,xy, , ,in, deg, , ,N, , ,W, grid, , , ,N
Point16,xy, , ,in, deg, , ,N, , ,W, grid, , , ,N
Point17,xy, , ,in, deg, , ,N, , ,W, grid, , , ,N
Point18,xy, , ,in, deg, , ,N, , ,W, grid, , , ,N
Point19,xy, , ,in, deg, , ,N, , ,W, grid, , , ,N
Point20,xy, , ,in, deg, , ,N, , ,W, grid, , , ,N
Point21,xy, , ,in, deg, , ,N, , ,W, grid, , , ,N
Point22,xy, , ,in, deg, , ,N, , ,W, grid, , , ,N
Point23,xy, , ,in, deg, , ,N, , ,W, grid, , , ,N
Point24,xy, , ,in, deg, , ,N, , ,W, grid, , , ,N
Point25,xy, , ,in, deg, , ,N, , ,W, grid, , , ,N
Point26,xy, , ,in, deg, , ,N, , ,W, grid, , , ,N
Point27,xy, , ,in, deg, , ,N, , ,W, grid, , , ,N
Point28,xy, , ,in, deg, , ,N, , ,W, grid, , , ,N
Point29,xy, , ,in, deg, , ,N, , ,W, grid, , , ,N
Point30,xy, , ,in, deg, , ,N, , ,W, grid, , , ,N
Projection Setup, 0.000000000, 33.000000000, 1.000000000, 6500000.00, 0.00,,,,,
Map Feature = MF ; Map Comment = MC These follow if they exist
Track File = TF These follow if they exist
Moving Map Parameters = MM? These follow if they exist
MM0,Yes
MMPNUM,4
MMPXY,1,162,255
MMPXY,2,4137,255
MMPXY,3,4150,4651
MMPXY,4,147,4651
MMPLL,1,30.499927,53.333386
MMPLL,2,30.999987,53.333332
MMPLL,3,30.999803,52.999801
MMPLL,4,30.500112,52.999897
MM1B,8.375637
MOP,Map Open Position,0,0
IWH,Map Image Width/Height,4302,5089
