OziExplorer Map Data File Version 2.2
N-36-089 Костюковичи
C:\strorry\Maps\Genshtab_1k\n-36-089.ozfx3
1 ,Map Code,
Pulkovo 1942 (1),WGS 84, 0.0000, 0.0000,WGS 84
Reserved 1
Reserved 2
Magnetic Variation,,,E
Map Projection,Transverse Mercator,PolyCal,No,AutoCalOnly,No,BSBUseWPX,No
Point01,xy, 149, 261,in, deg, 53, 40.0000,N, 32, 0.0000,E, grid, , , ,N
Point02,xy, 4053, 258,in, deg, 53, 40.0000,N, 32, 30.0000,E, grid, , , ,N
Point03,xy, 4064, 4647,in, deg, 53, 20.0000,N, 32, 30.0000,E, grid, , , ,N
Point04,xy, 131, 4645,in, deg, 53, 20.0000,N, 32, 0.0000,E, grid, , , ,N
Point05,xy, 2097, 2452,in, deg, 53, 30.0000,N, 32, 15.0000,E, grid, , , ,N
Point06,xy, 2102, 263,in, deg, 53, 40.0000,N, 32, 15.0000,E, grid, , , ,N
Point07,xy, 141, 2456,in, deg, 53, 30.0000,N, 32, 0.0000,E, grid, , , ,N
Point08,xy, 4059, 2451,in, deg, 53, 30.0000,N, 32, 30.0000,E, grid, , , ,N
Point09,xy, 2101, 4647,in, deg, 53, 20.0000,N, 32, 15.0000,E, grid, , , ,N
Point10,xy, , ,in, deg, , ,N, , ,W, grid, , , ,N
Point11,xy, , ,in, deg, , ,N, , ,W, grid, , , ,N
Point12,xy, , ,in, deg, , ,N, , ,W, grid, , , ,N
Point13,xy, , ,in, deg, , ,N, , ,W, grid, , , ,N
Point14,xy, , ,in, deg, , ,N, , ,W, grid, , , ,N
Point15,xy, , ,in, deg, , ,N, , ,W, grid, , , ,N
Point16,xy, , ,in, deg, , ,N, , ,W, grid, , , ,N
Point17,xy, , ,in, deg, , ,N, , ,W, grid, , , ,N
Point18,xy, , ,in, deg, , ,N, , ,W, grid, , , ,N
Point19,xy, , ,in, deg, , ,N, , ,W, grid, , , ,N
Point20,xy, , ,in, deg, , ,N, , ,W, grid, , , ,N
Point21,xy, , ,in, deg, , ,N, , ,W, grid, , , ,N
Point22,xy, , ,in, deg, , ,N, , ,W, grid, , , ,N
Point23,xy, , ,in, deg, , ,N, , ,W, grid, , , ,N
Point24,xy, , ,in, deg, , ,N, , ,W, grid, , , ,N
Point25,xy, , ,in, deg, , ,N, , ,W, grid, , , ,N
Point26,xy, , ,in, deg, , ,N, , ,W, grid, , , ,N
Point27,xy, , ,in, deg, , ,N, , ,W, grid, , , ,N
Point28,xy, , ,in, deg, , ,N, , ,W, grid, , , ,N
Point29,xy, , ,in, deg, , ,N, , ,W, grid, , , ,N
Point30,xy, , ,in, deg, , ,N, , ,W, grid, , , ,N
Projection Setup, 0.000000000, 33.000000000, 1.000000000, 6500000.00, 0.00,,,,,
Map Feature = MF ; Map Comment = MC These follow if they exist
Track File = TF These follow if they exist
Moving Map Parameters = MM? These follow if they exist
MM0,Yes
MMPNUM,4
MMPXY,1,149,261
MMPXY,2,4052,259
MMPXY,3,4064,4648
MMPXY,4,132,4644
MMPLL,1,31.999933,53.666613
MMPLL,2,32.499938,53.666621
MMPLL,3,32.499848,53.333027
MMPLL,4,32.000064,53.333489
MM1B,8.464238
MOP,Map Open Position,0,0
IWH,Map Image Width/Height,4194,4875
