OziExplorer Map Data File Version 2.2
N-36-087 Чериков
C:\strorry\Maps\Genshtab_1k\n-36-087.ozfx3
1 ,Map Code,
Pulkovo 1942 (1),WGS 84, 0.0000, 0.0000,WGS 84
Reserved 1
Reserved 2
Magnetic Variation,,,E
Map Projection,Transverse Mercator,PolyCal,No,AutoCalOnly,No,BSBUseWPX,No
Point01,xy, 165, 259,in, deg, 53, 40.0000,N, 31, 0.0000,E, grid, , , ,N
Point02,xy, 4098, 257,in, deg, 53, 40.0000,N, 31, 30.0000,E, grid, , , ,N
Point03,xy, 4121, 4640,in, deg, 53, 20.0000,N, 31, 30.0000,E, grid, , , ,N
Point04,xy, 151, 4641,in, deg, 53, 20.0000,N, 31, 0.0000,E, grid, , , ,N
Point05,xy, 2133, 2446,in, deg, 53, 30.0000,N, 31, 15.0000,E, grid, , , ,N
Point06,xy, 2131, 262,in, deg, 53, 40.0000,N, 31, 15.0000,E, grid, , , ,N
Point07,xy, 157, 2449,in, deg, 53, 30.0000,N, 31, 0.0000,E, grid, , , ,N
Point08,xy, 4111, 2446,in, deg, 53, 30.0000,N, 31, 30.0000,E, grid, , , ,N
Point09,xy, 2135, 4642,in, deg, 53, 20.0000,N, 31, 15.0000,E, grid, , , ,N
Point10,xy, , ,in, deg, , ,N, , ,W, grid, , , ,N
Point11,xy, , ,in, deg, , ,N, , ,W, grid, , , ,N
Point12,xy, , ,in, deg, , ,N, , ,W, grid, , , ,N
Point13,xy, , ,in, deg, , ,N, , ,W, grid, , , ,N
Point14,xy, , ,in, deg, , ,N, , ,W, grid, , , ,N
Point15,xy, , ,in, deg, , ,N, , ,W, grid, , , ,N
Point16,xy, , ,in, deg, , ,N, , ,W, grid, , , ,N
Point17,xy, , ,in, deg, , ,N, , ,W, grid, , , ,N
Point18,xy, , ,in, deg, , ,N, , ,W, grid, , , ,N
Point19,xy, , ,in, deg, , ,N, , ,W, grid, , , ,N
Point20,xy, , ,in, deg, , ,N, , ,W, grid, , , ,N
Point21,xy, , ,in, deg, , ,N, , ,W, grid, , , ,N
Point22,xy, , ,in, deg, , ,N, , ,W, grid, , , ,N
Point23,xy, , ,in, deg, , ,N, , ,W, grid, , , ,N
Point24,xy, , ,in, deg, , ,N, , ,W, grid, , , ,N
Point25,xy, , ,in, deg, , ,N, , ,W, grid, , , ,N
Point26,xy, , ,in, deg, , ,N, , ,W, grid, , , ,N
Point27,xy, , ,in, deg, , ,N, , ,W, grid, , , ,N
Point28,xy, , ,in, deg, , ,N, , ,W, grid, , , ,N
Point29,xy, , ,in, deg, , ,N, , ,W, grid, , , ,N
Point30,xy, , ,in, deg, , ,N, , ,W, grid, , , ,N
Projection Setup, 0.000000000, 33.000000000, 1.000000000, 6500000.00, 0.00,,,,,
Map Feature = MF ; Map Comment = MC These follow if they exist
Track File = TF These follow if they exist
Moving Map Parameters = MM? These follow if they exist
MM0,Yes
MMPNUM,4
MMPXY,1,165,258
MMPXY,2,4098,258
MMPXY,3,4121,4639
MMPXY,4,151,4641
MMPLL,1,31.000257,53.666668
MMPLL,2,31.499769,53.666533
MMPLL,3,31.500170,53.333232
MMPLL,4,30.999899,53.333249
MM1B,8.390403
MOP,Map Open Position,0,0
IWH,Map Image Width/Height,4273,5097
