OziExplorer Map Data File Version 2.2
N-36-086 Бахань
C:\strorry\Maps\Genshtab_1k\n-36-086.ozfx3
1 ,Map Code,
Pulkovo 1942 (1),WGS 84, 0.0000, 0.0000,WGS 84
Reserved 1
Reserved 2
Magnetic Variation,,,E
Map Projection,Transverse Mercator,PolyCal,No,AutoCalOnly,No,BSBUseWPX,No
Point01,xy, 166, 255,in, deg, 53, 40.0000,N, 30, 30.0000,E, grid, , , ,N
Point02,xy, 4107, 257,in, deg, 53, 40.0000,N, 31, 0.0000,E, grid, , , ,N
Point03,xy, 4117, 4650,in, deg, 53, 20.0000,N, 31, 0.0000,E, grid, , , ,N
Point04,xy, 147, 4647,in, deg, 53, 20.0000,N, 30, 30.0000,E, grid, , , ,N
Point05,xy, 2134, 2453,in, deg, 53, 30.0000,N, 30, 45.0000,E, grid, , , ,N
Point06,xy, 2136, 261,in, deg, 53, 40.0000,N, 30, 45.0000,E, grid, , , ,N
Point07,xy, 156, 2451,in, deg, 53, 30.0000,N, 30, 30.0000,E, grid, , , ,N
Point08,xy, 4114, 2453,in, deg, 53, 30.0000,N, 31, 0.0000,E, grid, , , ,N
Point09,xy, 2135, 4652,in, deg, 53, 20.0000,N, 30, 45.0000,E, grid, , , ,N
Point10,xy, , ,in, deg, , ,N, , ,W, grid, , , ,N
Point11,xy, , ,in, deg, , ,N, , ,W, grid, , , ,N
Point12,xy, , ,in, deg, , ,N, , ,W, grid, , , ,N
Point13,xy, , ,in, deg, , ,N, , ,W, grid, , , ,N
Point14,xy, , ,in, deg, , ,N, , ,W, grid, , , ,N
Point15,xy, , ,in, deg, , ,N, , ,W, grid, , , ,N
Point16,xy, , ,in, deg, , ,N, , ,W, grid, , , ,N
Point17,xy, , ,in, deg, , ,N, , ,W, grid, , , ,N
Point18,xy, , ,in, deg, , ,N, , ,W, grid, , , ,N
Point19,xy, , ,in, deg, , ,N, , ,W, grid, , , ,N
Point20,xy, , ,in, deg, , ,N, , ,W, grid, , , ,N
Point21,xy, , ,in, deg, , ,N, , ,W, grid, , , ,N
Point22,xy, , ,in, deg, , ,N, , ,W, grid, , , ,N
Point23,xy, , ,in, deg, , ,N, , ,W, grid, , , ,N
Point24,xy, , ,in, deg, , ,N, , ,W, grid, , , ,N
Point25,xy, , ,in, deg, , ,N, , ,W, grid, , , ,N
Point26,xy, , ,in, deg, , ,N, , ,W, grid, , , ,N
Point27,xy, , ,in, deg, , ,N, , ,W, grid, , , ,N
Point28,xy, , ,in, deg, , ,N, , ,W, grid, , , ,N
Point29,xy, , ,in, deg, , ,N, , ,W, grid, , , ,N
Point30,xy, , ,in, deg, , ,N, , ,W, grid, , , ,N
Projection Setup, 0.000000000, 33.000000000, 1.000000000, 6500000.00, 0.00,,,,,
Map Feature = MF ; Map Comment = MC These follow if they exist
Track File = TF These follow if they exist
Moving Map Parameters = MM? These follow if they exist
MM0,Yes
MMPNUM,4
MMPXY,1,166,255
MMPXY,2,4107,257
MMPXY,3,4117,4650
MMPXY,4,147,4647
MMPLL,1,30.500008,53.666649
MMPLL,2,31.000033,53.666694
MMPLL,3,30.999757,53.333265
MMPLL,4,30.499990,53.333335
MM1B,8.381459
MOP,Map Open Position,0,0
IWH,Map Image Width/Height,4265,5088
