OziExplorer Map Data File Version 2.2
N-36-085 Быхов
C:\strorry\Maps\Genshtab_1k\n-36-085.ozfx3
1 ,Map Code,
Pulkovo 1942 (1),WGS 84, 0.0000, 0.0000,WGS 84
Reserved 1
Reserved 2
Magnetic Variation,,,E
Map Projection,Transverse Mercator,PolyCal,No,AutoCalOnly,No,BSBUseWPX,No
Point01,xy, 170, 260,in, deg, 53, 40.0000,N, 30, 0.0000,E, grid, , , ,N
Point02,xy, 4110, 259,in, deg, 53, 40.0000,N, 30, 30.0000,E, grid, , , ,N
Point03,xy, 4128, 4650,in, deg, 53, 20.0000,N, 30, 30.0000,E, grid, , , ,N
Point04,xy, 154, 4649,in, deg, 53, 20.0000,N, 30, 0.0000,E, grid, , , ,N
Point05,xy, 2141, 2457,in, deg, 53, 30.0000,N, 30, 15.0000,E, grid, , , ,N
Point06,xy, 2142, 263,in, deg, 53, 40.0000,N, 30, 15.0000,E, grid, , , ,N
Point07,xy, 161, 2456,in, deg, 53, 30.0000,N, 30, 0.0000,E, grid, , , ,N
Point08,xy, 4121, 2455,in, deg, 53, 30.0000,N, 30, 30.0000,E, grid, , , ,N
Point09,xy, 2142, 4656,in, deg, 53, 20.0000,N, 30, 15.0000,E, grid, , , ,N
Point10,xy, , ,in, deg, , ,N, , ,W, grid, , , ,N
Point11,xy, , ,in, deg, , ,N, , ,W, grid, , , ,N
Point12,xy, , ,in, deg, , ,N, , ,W, grid, , , ,N
Point13,xy, , ,in, deg, , ,N, , ,W, grid, , , ,N
Point14,xy, , ,in, deg, , ,N, , ,W, grid, , , ,N
Point15,xy, , ,in, deg, , ,N, , ,W, grid, , , ,N
Point16,xy, , ,in, deg, , ,N, , ,W, grid, , , ,N
Point17,xy, , ,in, deg, , ,N, , ,W, grid, , , ,N
Point18,xy, , ,in, deg, , ,N, , ,W, grid, , , ,N
Point19,xy, , ,in, deg, , ,N, , ,W, grid, , , ,N
Point20,xy, , ,in, deg, , ,N, , ,W, grid, , , ,N
Point21,xy, , ,in, deg, , ,N, , ,W, grid, , , ,N
Point22,xy, , ,in, deg, , ,N, , ,W, grid, , , ,N
Point23,xy, , ,in, deg, , ,N, , ,W, grid, , , ,N
Point24,xy, , ,in, deg, , ,N, , ,W, grid, , , ,N
Point25,xy, , ,in, deg, , ,N, , ,W, grid, , , ,N
Point26,xy, , ,in, deg, , ,N, , ,W, grid, , , ,N
Point27,xy, , ,in, deg, , ,N, , ,W, grid, , , ,N
Point28,xy, , ,in, deg, , ,N, , ,W, grid, , , ,N
Point29,xy, , ,in, deg, , ,N, , ,W, grid, , , ,N
Point30,xy, , ,in, deg, , ,N, , ,W, grid, , , ,N
Projection Setup, 0.000000000, 33.000000000, 1.000000000, 6500000.00, 0.00,,,,,
Map Feature = MF ; Map Comment = MC These follow if they exist
Track File = TF These follow if they exist
Moving Map Parameters = MM? These follow if they exist
MM0,Yes
MMPNUM,4
MMPXY,1,170,260
MMPXY,2,4110,258
MMPXY,3,4127,4651
MMPXY,4,154,4649
MMPLL,1,30.000071,53.666626
MMPLL,2,30.499759,53.666778
MMPLL,3,30.499860,53.333267
MMPLL,4,29.999927,53.333468
MM1B,8.376802
MOP,Map Open Position,0,0
IWH,Map Image Width/Height,4280,5095
