OziExplorer Map Data File Version 2.2
N-36-063 Дрибин
C:\strorry\Maps\Genshtab_1k\n-36-063.ozfx3
1 ,Map Code,
Pulkovo 1942 (1),WGS 84, 0.0000, 0.0000,WGS 84
Reserved 1
Reserved 2
Magnetic Variation,,,E
Map Projection,Transverse Mercator,PolyCal,No,AutoCalOnly,No,BSBUseWPX,No
Point01,xy, 165, 257,in, deg, 54, 20.0000,N, 31, 0.0000,E, grid, , , ,N
Point02,xy, 4045, 255,in, deg, 54, 20.0000,N, 31, 30.0000,E, grid, , , ,N
Point03,xy, 4059, 4652,in, deg, 54, 0.0000,N, 31, 30.0000,E, grid, , , ,N
Point04,xy, 149, 4648,in, deg, 54, 0.0000,N, 31, 0.0000,E, grid, , , ,N
Point05,xy, 2107, 2455,in, deg, 54, 10.0000,N, 31, 15.0000,E, grid, , , ,N
Point06,xy, 2107, 260,in, deg, 54, 20.0000,N, 31, 15.0000,E, grid, , , ,N
Point07,xy, 157, 2453,in, deg, 54, 10.0000,N, 31, 0.0000,E, grid, , , ,N
Point08,xy, 4055, 2453,in, deg, 54, 10.0000,N, 31, 30.0000,E, grid, , , ,N
Point09,xy, 2104, 4655,in, deg, 54, 0.0000,N, 31, 15.0000,E, grid, , , ,N
Point10,xy, , ,in, deg, , ,N, , ,W, grid, , , ,N
Point11,xy, , ,in, deg, , ,N, , ,W, grid, , , ,N
Point12,xy, , ,in, deg, , ,N, , ,W, grid, , , ,N
Point13,xy, , ,in, deg, , ,N, , ,W, grid, , , ,N
Point14,xy, , ,in, deg, , ,N, , ,W, grid, , , ,N
Point15,xy, , ,in, deg, , ,N, , ,W, grid, , , ,N
Point16,xy, , ,in, deg, , ,N, , ,W, grid, , , ,N
Point17,xy, , ,in, deg, , ,N, , ,W, grid, , , ,N
Point18,xy, , ,in, deg, , ,N, , ,W, grid, , , ,N
Point19,xy, , ,in, deg, , ,N, , ,W, grid, , , ,N
Point20,xy, , ,in, deg, , ,N, , ,W, grid, , , ,N
Point21,xy, , ,in, deg, , ,N, , ,W, grid, , , ,N
Point22,xy, , ,in, deg, , ,N, , ,W, grid, , , ,N
Point23,xy, , ,in, deg, , ,N, , ,W, grid, , , ,N
Point24,xy, , ,in, deg, , ,N, , ,W, grid, , , ,N
Point25,xy, , ,in, deg, , ,N, , ,W, grid, , , ,N
Point26,xy, , ,in, deg, , ,N, , ,W, grid, , , ,N
Point27,xy, , ,in, deg, , ,N, , ,W, grid, , , ,N
Point28,xy, , ,in, deg, , ,N, , ,W, grid, , , ,N
Point29,xy, , ,in, deg, , ,N, , ,W, grid, , , ,N
Point30,xy, , ,in, deg, , ,N, , ,W, grid, , , ,N
Projection Setup, 0.000000000, 33.000000000, 1.000000000, 6500000.00, 0.00,,,,,
Map Feature = MF ; Map Comment = MC These follow if they exist
Track File = TF These follow if they exist
Moving Map Parameters = MM? These follow if they exist
MM0,Yes
MMPNUM,4
MMPXY,1,165,258
MMPXY,2,4045,255
MMPXY,3,4059,4651
MMPXY,4,149,4649
MMPLL,1,30.999872,54.333141
MMPLL,2,31.499828,54.333436
MMPLL,3,31.499829,53.999961
MMPLL,4,31.000041,54.000076
MM1B,8.377696
MOP,Map Open Position,0,0
IWH,Map Image Width/Height,4211,5092
