OziExplorer Map Data File Version 2.2
N-36-051 Красный
C:\strorry\Maps\Genshtab_1k\n-36-051.ozfx3
1 ,Map Code,
Pulkovo 1942 (1),WGS 84, 0.0000, 0.0000,WGS 84
Reserved 1
Reserved 2
Magnetic Variation,,,E
Map Projection,Transverse Mercator,PolyCal,No,AutoCalOnly,No,BSBUseWPX,No
Point01,xy, 168, 262,in, deg, 54, 40.0000,N, 31, 0.0000,E, grid, , , ,N
Point02,xy, 4016, 263,in, deg, 54, 40.0000,N, 31, 30.0000,E, grid, , , ,N
Point03,xy, 4031, 4665,in, deg, 54, 20.0000,N, 31, 30.0000,E, grid, , , ,N
Point04,xy, 151, 4661,in, deg, 54, 20.0000,N, 31, 0.0000,E, grid, , , ,N
Point05,xy, 2092, 2466,in, deg, 54, 30.0000,N, 31, 15.0000,E, grid, , , ,N
Point06,xy, 2094, 267,in, deg, 54, 40.0000,N, 31, 15.0000,E, grid, , , ,N
Point07,xy, 159, 2461,in, deg, 54, 30.0000,N, 31, 0.0000,E, grid, , , ,N
Point08,xy, 4026, 2465,in, deg, 54, 30.0000,N, 31, 30.0000,E, grid, , , ,N
Point09,xy, 2089, 4666,in, deg, 54, 20.0000,N, 31, 15.0000,E, grid, , , ,N
Point10,xy, , ,in, deg, , ,N, , ,W, grid, , , ,N
Point11,xy, , ,in, deg, , ,N, , ,W, grid, , , ,N
Point12,xy, , ,in, deg, , ,N, , ,W, grid, , , ,N
Point13,xy, , ,in, deg, , ,N, , ,W, grid, , , ,N
Point14,xy, , ,in, deg, , ,N, , ,W, grid, , , ,N
Point15,xy, , ,in, deg, , ,N, , ,W, grid, , , ,N
Point16,xy, , ,in, deg, , ,N, , ,W, grid, , , ,N
Point17,xy, , ,in, deg, , ,N, , ,W, grid, , , ,N
Point18,xy, , ,in, deg, , ,N, , ,W, grid, , , ,N
Point19,xy, , ,in, deg, , ,N, , ,W, grid, , , ,N
Point20,xy, , ,in, deg, , ,N, , ,W, grid, , , ,N
Point21,xy, , ,in, deg, , ,N, , ,W, grid, , , ,N
Point22,xy, , ,in, deg, , ,N, , ,W, grid, , , ,N
Point23,xy, , ,in, deg, , ,N, , ,W, grid, , , ,N
Point24,xy, , ,in, deg, , ,N, , ,W, grid, , , ,N
Point25,xy, , ,in, deg, , ,N, , ,W, grid, , , ,N
Point26,xy, , ,in, deg, , ,N, , ,W, grid, , , ,N
Point27,xy, , ,in, deg, , ,N, , ,W, grid, , , ,N
Point28,xy, , ,in, deg, , ,N, , ,W, grid, , , ,N
Point29,xy, , ,in, deg, , ,N, , ,W, grid, , , ,N
Point30,xy, , ,in, deg, , ,N, , ,W, grid, , , ,N
Projection Setup, 0.000000000, 33.000000000, 1.000000000, 6500000.00, 0.00,,,,,
Map Feature = MF ; Map Comment = MC These follow if they exist
Track File = TF These follow if they exist
Moving Map Parameters = MM? These follow if they exist
MM0,Yes
MMPNUM,4
MMPXY,1,169,261
MMPXY,2,4015,263
MMPXY,3,4031,4664
MMPXY,4,151,4662
MMPLL,1,31.000088,54.666687
MMPLL,2,31.499665,54.666777
MMPLL,3,31.500003,54.333353
MMPLL,4,31.000097,54.333291
MM1B,8.376942
MOP,Map Open Position,0,0
IWH,Map Image Width/Height,4187,5112
