OziExplorer Map Data File Version 2.2
N-36-038 Осинторф
C:\strorry\Maps\Genshtab_1k\n-36-038.ozfx3
1 ,Map Code,
Pulkovo 1942 (1),WGS 84, 0.0000, 0.0000,WGS 84
Reserved 1
Reserved 2
Magnetic Variation,,,E
Map Projection,Transverse Mercator,PolyCal,No,AutoCalOnly,No,BSBUseWPX,No
Point01,xy, 155, 259,in, deg, 55, 0.0000,N, 30, 30.0000,E, grid, , , ,N
Point02,xy, 3974, 260,in, deg, 55, 0.0000,N, 31, 0.0000,E, grid, , , ,N
Point03,xy, 3991, 4647,in, deg, 54, 40.0000,N, 31, 0.0000,E, grid, , , ,N
Point04,xy, 150, 4646,in, deg, 54, 40.0000,N, 30, 30.0000,E, grid, , , ,N
Point05,xy, 2066, 2459,in, deg, 54, 50.0000,N, 30, 45.0000,E, grid, , , ,N
Point06,xy, 2066, 262,in, deg, 55, 0.0000,N, 30, 45.0000,E, grid, , , ,N
Point07,xy, 152, 2455,in, deg, 54, 50.0000,N, 30, 30.0000,E, grid, , , ,N
Point08,xy, 3984, 2452,in, deg, 54, 50.0000,N, 31, 0.0000,E, grid, , , ,N
Point09,xy, 2069, 4652,in, deg, 54, 40.0000,N, 30, 45.0000,E, grid, , , ,N
Point10,xy, , ,in, deg, , ,N, , ,W, grid, , , ,N
Point11,xy, , ,in, deg, , ,N, , ,W, grid, , , ,N
Point12,xy, , ,in, deg, , ,N, , ,W, grid, , , ,N
Point13,xy, , ,in, deg, , ,N, , ,W, grid, , , ,N
Point14,xy, , ,in, deg, , ,N, , ,W, grid, , , ,N
Point15,xy, , ,in, deg, , ,N, , ,W, grid, , , ,N
Point16,xy, , ,in, deg, , ,N, , ,W, grid, , , ,N
Point17,xy, , ,in, deg, , ,N, , ,W, grid, , , ,N
Point18,xy, , ,in, deg, , ,N, , ,W, grid, , , ,N
Point19,xy, , ,in, deg, , ,N, , ,W, grid, , , ,N
Point20,xy, , ,in, deg, , ,N, , ,W, grid, , , ,N
Point21,xy, , ,in, deg, , ,N, , ,W, grid, , , ,N
Point22,xy, , ,in, deg, , ,N, , ,W, grid, , , ,N
Point23,xy, , ,in, deg, , ,N, , ,W, grid, , , ,N
Point24,xy, , ,in, deg, , ,N, , ,W, grid, , , ,N
Point25,xy, , ,in, deg, , ,N, , ,W, grid, , , ,N
Point26,xy, , ,in, deg, , ,N, , ,W, grid, , , ,N
Point27,xy, , ,in, deg, , ,N, , ,W, grid, , , ,N
Point28,xy, , ,in, deg, , ,N, , ,W, grid, , , ,N
Point29,xy, , ,in, deg, , ,N, , ,W, grid, , , ,N
Point30,xy, , ,in, deg, , ,N, , ,W, grid, , , ,N
Projection Setup, 0.000000000, 33.000000000, 1.000000000, 6500000.00, 0.00,,,,,
Map Feature = MF ; Map Comment = MC These follow if they exist
Track File = TF These follow if they exist
Moving Map Parameters = MM? These follow if they exist
MM0,Yes
MMPNUM,4
MMPXY,1,156,261
MMPXY,2,3973,259
MMPXY,3,3992,4647
MMPXY,4,150,4647
MMPLL,1,30.499801,54.999891
MMPLL,2,31.000082,55.000037
MMPLL,3,30.999848,54.666685
MMPLL,4,30.500425,54.666730
MM1B,8.382041
MOP,Map Open Position,0,0
IWH,Map Image Width/Height,4142,5096
