OziExplorer Map Data File Version 2.2
N-36-027 Понизовье
C:\strorry\Maps\Genshtab_1k\n-36-027.ozfx3
1 ,Map Code,
Pulkovo 1942 (1),WGS 84, 0.0000, 0.0000,WGS 84
Reserved 1
Reserved 2
Magnetic Variation,,,E
Map Projection,Transverse Mercator,PolyCal,No,AutoCalOnly,No,BSBUseWPX,No
Point01,xy, 163, 255,in, deg, 55, 20.0000,N, 31, 0.0000,E, grid, , , ,N
Point02,xy, 3952, 256,in, deg, 55, 20.0000,N, 31, 30.0000,E, grid, , , ,N
Point03,xy, 3974, 4639,in, deg, 55, 0.0000,N, 31, 30.0000,E, grid, , , ,N
Point04,xy, 150, 4639,in, deg, 55, 0.0000,N, 31, 0.0000,E, grid, , , ,N
Point05,xy, 2062, 2450,in, deg, 55, 10.0000,N, 31, 15.0000,E, grid, , , ,N
Point06,xy, 2058, 261,in, deg, 55, 20.0000,N, 31, 15.0000,E, grid, , , ,N
Point07,xy, 155, 2446,in, deg, 55, 10.0000,N, 31, 0.0000,E, grid, , , ,N
Point08,xy, 3964, 2449,in, deg, 55, 10.0000,N, 31, 30.0000,E, grid, , , ,N
Point09,xy, 2064, 4642,in, deg, 55, 0.0000,N, 31, 15.0000,E, grid, , , ,N
Point10,xy, , ,in, deg, , ,N, , ,W, grid, , , ,N
Point11,xy, , ,in, deg, , ,N, , ,W, grid, , , ,N
Point12,xy, , ,in, deg, , ,N, , ,W, grid, , , ,N
Point13,xy, , ,in, deg, , ,N, , ,W, grid, , , ,N
Point14,xy, , ,in, deg, , ,N, , ,W, grid, , , ,N
Point15,xy, , ,in, deg, , ,N, , ,W, grid, , , ,N
Point16,xy, , ,in, deg, , ,N, , ,W, grid, , , ,N
Point17,xy, , ,in, deg, , ,N, , ,W, grid, , , ,N
Point18,xy, , ,in, deg, , ,N, , ,W, grid, , , ,N
Point19,xy, , ,in, deg, , ,N, , ,W, grid, , , ,N
Point20,xy, , ,in, deg, , ,N, , ,W, grid, , , ,N
Point21,xy, , ,in, deg, , ,N, , ,W, grid, , , ,N
Point22,xy, , ,in, deg, , ,N, , ,W, grid, , , ,N
Point23,xy, , ,in, deg, , ,N, , ,W, grid, , , ,N
Point24,xy, , ,in, deg, , ,N, , ,W, grid, , , ,N
Point25,xy, , ,in, deg, , ,N, , ,W, grid, , , ,N
Point26,xy, , ,in, deg, , ,N, , ,W, grid, , , ,N
Point27,xy, , ,in, deg, , ,N, , ,W, grid, , , ,N
Point28,xy, , ,in, deg, , ,N, , ,W, grid, , , ,N
Point29,xy, , ,in, deg, , ,N, , ,W, grid, , , ,N
Point30,xy, , ,in, deg, , ,N, , ,W, grid, , , ,N
Projection Setup, 0.000000000, 33.000000000, 1.000000000, 6500000.00, 0.00,,,,,
Map Feature = MF ; Map Comment = MC These follow if they exist
Track File = TF These follow if they exist
Moving Map Parameters = MM? These follow if they exist
MM0,Yes
MMPNUM,4
MMPXY,1,163,256
MMPXY,2,3952,255
MMPXY,3,3973,4638
MMPXY,4,150,4639
MMPLL,1,31.000132,55.333283
MMPLL,2,31.499810,55.333474
MMPLL,3,31.499826,55.000101
MMPLL,4,30.999854,54.999937
MM1B,8.364662
MOP,Map Open Position,0,0
IWH,Map Image Width/Height,4124,5073
