OziExplorer Map Data File Version 2.2
N-36-026 Лиозно
C:\strorry\Maps\Genshtab_1k\n-36-026.ozfx3
1 ,Map Code,
Pulkovo 1942 (1),WGS 84, 0.0000, 0.0000,WGS 84
Reserved 1
Reserved 2
Magnetic Variation,,,E
Map Projection,Transverse Mercator,PolyCal,No,AutoCalOnly,No,BSBUseWPX,No
Point01,xy, 166, 257,in, deg, 55, 20.0000,N, 30, 30.0000,E, grid, , , ,N
Point02,xy, 3954, 258,in, deg, 55, 20.0000,N, 31, 0.0000,E, grid, , , ,N
Point03,xy, 3974, 4636,in, deg, 55, 0.0000,N, 31, 0.0000,E, grid, , , ,N
Point04,xy, 152, 4637,in, deg, 55, 0.0000,N, 30, 30.0000,E, grid, , , ,N
Point05,xy, 2062, 2452,in, deg, 55, 10.0000,N, 30, 45.0000,E, grid, , , ,N
Point06,xy, 2061, 263,in, deg, 55, 20.0000,N, 30, 45.0000,E, grid, , , ,N
Point07,xy, 158, 2447,in, deg, 55, 10.0000,N, 30, 30.0000,E, grid, , , ,N
Point08,xy, 3965, 2451,in, deg, 55, 10.0000,N, 31, 0.0000,E, grid, , , ,N
Point09,xy, 2066, 4639,in, deg, 55, 0.0000,N, 30, 45.0000,E, grid, , , ,N
Point10,xy, , ,in, deg, , ,N, , ,W, grid, , , ,N
Point11,xy, , ,in, deg, , ,N, , ,W, grid, , , ,N
Point12,xy, , ,in, deg, , ,N, , ,W, grid, , , ,N
Point13,xy, , ,in, deg, , ,N, , ,W, grid, , , ,N
Point14,xy, , ,in, deg, , ,N, , ,W, grid, , , ,N
Point15,xy, , ,in, deg, , ,N, , ,W, grid, , , ,N
Point16,xy, , ,in, deg, , ,N, , ,W, grid, , , ,N
Point17,xy, , ,in, deg, , ,N, , ,W, grid, , , ,N
Point18,xy, , ,in, deg, , ,N, , ,W, grid, , , ,N
Point19,xy, , ,in, deg, , ,N, , ,W, grid, , , ,N
Point20,xy, , ,in, deg, , ,N, , ,W, grid, , , ,N
Point21,xy, , ,in, deg, , ,N, , ,W, grid, , , ,N
Point22,xy, , ,in, deg, , ,N, , ,W, grid, , , ,N
Point23,xy, , ,in, deg, , ,N, , ,W, grid, , , ,N
Point24,xy, , ,in, deg, , ,N, , ,W, grid, , , ,N
Point25,xy, , ,in, deg, , ,N, , ,W, grid, , , ,N
Point26,xy, , ,in, deg, , ,N, , ,W, grid, , , ,N
Point27,xy, , ,in, deg, , ,N, , ,W, grid, , , ,N
Point28,xy, , ,in, deg, , ,N, , ,W, grid, , , ,N
Point29,xy, , ,in, deg, , ,N, , ,W, grid, , , ,N
Point30,xy, , ,in, deg, , ,N, , ,W, grid, , , ,N
Projection Setup, 0.000000000, 33.000000000, 1.000000000, 6500000.00, 0.00,,,,,
Map Feature = MF ; Map Comment = MC These follow if they exist
Track File = TF These follow if they exist
Moving Map Parameters = MM? These follow if they exist
MM0,Yes
MMPNUM,4
MMPXY,1,166,258
MMPXY,2,3955,258
MMPXY,3,3974,4636
MMPXY,4,152,4638
MMPLL,1,30.500095,55.333332
MMPLL,2,30.999993,55.333451
MMPLL,3,30.999921,55.000099
MMPLL,4,30.499861,54.999863
MM1B,8.367463
MOP,Map Open Position,0,0
IWH,Map Image Width/Height,4125,5080
