OziExplorer Map Data File Version 2.2
N-36-014 Сураж
C:\strorry\Maps\Genshtab_1k\n-36-014.ozfx3
1 ,Map Code,
Pulkovo 1942 (1),WGS 84, 0.0000, 0.0000,WGS 84
Reserved 1
Reserved 2
Magnetic Variation,,,E
Map Projection,Transverse Mercator,PolyCal,No,AutoCalOnly,No,BSBUseWPX,No
Point01,xy, 158, 258,in, deg, 55, 40.0000,N, 30, 30.0000,E, grid, , , ,N
Point02,xy, 3909, 256,in, deg, 55, 40.0000,N, 31, 0.0000,E, grid, , , ,N
Point03,xy, 3928, 4640,in, deg, 55, 20.0000,N, 31, 0.0000,E, grid, , , ,N
Point04,xy, 150, 4647,in, deg, 55, 20.0000,N, 30, 30.0000,E, grid, , , ,N
Point05,xy, 2034, 2452,in, deg, 55, 30.0000,N, 30, 45.0000,E, grid, , , ,N
Point06,xy, 2034, 260,in, deg, 55, 40.0000,N, 30, 45.0000,E, grid, , , ,N
Point07,xy, 153, 2455,in, deg, 55, 30.0000,N, 30, 30.0000,E, grid, , , ,N
Point08,xy, 3920, 2448,in, deg, 55, 30.0000,N, 31, 0.0000,E, grid, , , ,N
Point09,xy, 2036, 4647,in, deg, 55, 20.0000,N, 30, 45.0000,E, grid, , , ,N
Point10,xy, , ,in, deg, , ,N, , ,W, grid, , , ,N
Point11,xy, , ,in, deg, , ,N, , ,W, grid, , , ,N
Point12,xy, , ,in, deg, , ,N, , ,W, grid, , , ,N
Point13,xy, , ,in, deg, , ,N, , ,W, grid, , , ,N
Point14,xy, , ,in, deg, , ,N, , ,W, grid, , , ,N
Point15,xy, , ,in, deg, , ,N, , ,W, grid, , , ,N
Point16,xy, , ,in, deg, , ,N, , ,W, grid, , , ,N
Point17,xy, , ,in, deg, , ,N, , ,W, grid, , , ,N
Point18,xy, , ,in, deg, , ,N, , ,W, grid, , , ,N
Point19,xy, , ,in, deg, , ,N, , ,W, grid, , , ,N
Point20,xy, , ,in, deg, , ,N, , ,W, grid, , , ,N
Point21,xy, , ,in, deg, , ,N, , ,W, grid, , , ,N
Point22,xy, , ,in, deg, , ,N, , ,W, grid, , , ,N
Point23,xy, , ,in, deg, , ,N, , ,W, grid, , , ,N
Point24,xy, , ,in, deg, , ,N, , ,W, grid, , , ,N
Point25,xy, , ,in, deg, , ,N, , ,W, grid, , , ,N
Point26,xy, , ,in, deg, , ,N, , ,W, grid, , , ,N
Point27,xy, , ,in, deg, , ,N, , ,W, grid, , , ,N
Point28,xy, , ,in, deg, , ,N, , ,W, grid, , , ,N
Point29,xy, , ,in, deg, , ,N, , ,W, grid, , , ,N
Point30,xy, , ,in, deg, , ,N, , ,W, grid, , , ,N
Projection Setup, 0.000000000, 33.000000000, 1.000000000, 6500000.00, 0.00,,,,,
Map Feature = MF ; Map Comment = MC These follow if they exist
Track File = TF These follow if they exist
Moving Map Parameters = MM? These follow if they exist
MM0,Yes
MMPNUM,4
MMPXY,1,157,258
MMPXY,2,3909,256
MMPXY,3,3928,4640
MMPXY,4,150,4647
MMPLL,1,30.499744,55.666782
MMPLL,2,31.000089,55.666548
MMPLL,3,30.999926,55.333398
MMPLL,4,30.500353,55.333292
MM1B,8.385853
MOP,Map Open Position,0,0
IWH,Map Image Width/Height,4081,5075
