OziExplorer Map Data File Version 2.2
N-36-013 Пальминка
C:\strorry\Maps\Genshtab_1k\n-36-013.ozfx3
1 ,Map Code,
Pulkovo 1942 (1),WGS 84, 0.0000, 0.0000,WGS 84
Reserved 1
Reserved 2
Magnetic Variation,,,E
Map Projection,Transverse Mercator,PolyCal,No,AutoCalOnly,No,BSBUseWPX,No
Point01,xy, 159, 255,in, deg, 55, 40.0000,N, 30, 0.0000,E, grid, , , ,N
Point02,xy, 3911, 255,in, deg, 55, 40.0000,N, 30, 30.0000,E, grid, , , ,N
Point03,xy, 3933, 4639,in, deg, 55, 20.0000,N, 30, 30.0000,E, grid, , , ,N
Point04,xy, 148, 4643,in, deg, 55, 20.0000,N, 30, 0.0000,E, grid, , , ,N
Point05,xy, 2041, 2447,in, deg, 55, 30.0000,N, 30, 15.0000,E, grid, , , ,N
Point06,xy, 2035, 262,in, deg, 55, 40.0000,N, 30, 15.0000,E, grid, , , ,N
Point07,xy, 153, 2447,in, deg, 55, 30.0000,N, 30, 0.0000,E, grid, , , ,N
Point08,xy, 3924, 2446,in, deg, 55, 30.0000,N, 30, 30.0000,E, grid, , , ,N
Point09,xy, 2045, 4645,in, deg, 55, 20.0000,N, 30, 15.0000,E, grid, , , ,N
Point10,xy, , ,in, deg, , ,N, , ,W, grid, , , ,N
Point11,xy, , ,in, deg, , ,N, , ,W, grid, , , ,N
Point12,xy, , ,in, deg, , ,N, , ,W, grid, , , ,N
Point13,xy, , ,in, deg, , ,N, , ,W, grid, , , ,N
Point14,xy, , ,in, deg, , ,N, , ,W, grid, , , ,N
Point15,xy, , ,in, deg, , ,N, , ,W, grid, , , ,N
Point16,xy, , ,in, deg, , ,N, , ,W, grid, , , ,N
Point17,xy, , ,in, deg, , ,N, , ,W, grid, , , ,N
Point18,xy, , ,in, deg, , ,N, , ,W, grid, , , ,N
Point19,xy, , ,in, deg, , ,N, , ,W, grid, , , ,N
Point20,xy, , ,in, deg, , ,N, , ,W, grid, , , ,N
Point21,xy, , ,in, deg, , ,N, , ,W, grid, , , ,N
Point22,xy, , ,in, deg, , ,N, , ,W, grid, , , ,N
Point23,xy, , ,in, deg, , ,N, , ,W, grid, , , ,N
Point24,xy, , ,in, deg, , ,N, , ,W, grid, , , ,N
Point25,xy, , ,in, deg, , ,N, , ,W, grid, , , ,N
Point26,xy, , ,in, deg, , ,N, , ,W, grid, , , ,N
Point27,xy, , ,in, deg, , ,N, , ,W, grid, , , ,N
Point28,xy, , ,in, deg, , ,N, , ,W, grid, , , ,N
Point29,xy, , ,in, deg, , ,N, , ,W, grid, , , ,N
Point30,xy, , ,in, deg, , ,N, , ,W, grid, , , ,N
Projection Setup, 0.000000000, 33.000000000, 1.000000000, 6500000.00, 0.00,,,,,
Map Feature = MF ; Map Comment = MC These follow if they exist
Track File = TF These follow if they exist
Moving Map Parameters = MM? These follow if they exist
MM0,Yes
MMPNUM,4
MMPXY,1,159,255
MMPXY,2,3911,255
MMPXY,3,3933,4640
MMPXY,4,149,4642
MMPLL,1,30.000055,55.666730
MMPLL,2,30.499869,55.666626
MMPLL,3,30.499746,55.333270
MMPLL,4,29.999914,55.333267
MM1B,8.376036
MOP,Map Open Position,0,0
IWH,Map Image Width/Height,4086,5086
