OziExplorer Map Data File Version 2.2
N-36-002 Усвяты
C:\strorry\Maps\Genshtab_1k\n-36-002.ozfx3
1 ,Map Code,
Pulkovo 1942 (1),WGS 84, 0.0000, 0.0000,WGS 84
Reserved 1
Reserved 2
Magnetic Variation,,,E
Map Projection,Transverse Mercator,PolyCal,No,AutoCalOnly,No,BSBUseWPX,No
Point01,xy, 168, 259,in, deg, 56, 0.0000,N, 30, 30.0000,E, grid, , , ,N
Point02,xy, 3887, 260,in, deg, 56, 0.0000,N, 31, 0.0000,E, grid, , , ,N
Point03,xy, 3903, 4642,in, deg, 55, 40.0000,N, 31, 0.0000,E, grid, , , ,N
Point04,xy, 156, 4642,in, deg, 55, 40.0000,N, 30, 30.0000,E, grid, , , ,N
Point05,xy, 2029, 2454,in, deg, 55, 50.0000,N, 30, 45.0000,E, grid, , , ,N
Point06,xy, 2026, 263,in, deg, 56, 0.0000,N, 30, 45.0000,E, grid, , , ,N
Point07,xy, 160, 2450,in, deg, 55, 50.0000,N, 30, 30.0000,E, grid, , , ,N
Point08,xy, 3896, 2450,in, deg, 55, 50.0000,N, 31, 0.0000,E, grid, , , ,N
Point09,xy, 2031, 4648,in, deg, 55, 40.0000,N, 30, 45.0000,E, grid, , , ,N
Point10,xy, , ,in, deg, , ,N, , ,W, grid, , , ,N
Point11,xy, , ,in, deg, , ,N, , ,W, grid, , , ,N
Point12,xy, , ,in, deg, , ,N, , ,W, grid, , , ,N
Point13,xy, , ,in, deg, , ,N, , ,W, grid, , , ,N
Point14,xy, , ,in, deg, , ,N, , ,W, grid, , , ,N
Point15,xy, , ,in, deg, , ,N, , ,W, grid, , , ,N
Point16,xy, , ,in, deg, , ,N, , ,W, grid, , , ,N
Point17,xy, , ,in, deg, , ,N, , ,W, grid, , , ,N
Point18,xy, , ,in, deg, , ,N, , ,W, grid, , , ,N
Point19,xy, , ,in, deg, , ,N, , ,W, grid, , , ,N
Point20,xy, , ,in, deg, , ,N, , ,W, grid, , , ,N
Point21,xy, , ,in, deg, , ,N, , ,W, grid, , , ,N
Point22,xy, , ,in, deg, , ,N, , ,W, grid, , , ,N
Point23,xy, , ,in, deg, , ,N, , ,W, grid, , , ,N
Point24,xy, , ,in, deg, , ,N, , ,W, grid, , , ,N
Point25,xy, , ,in, deg, , ,N, , ,W, grid, , , ,N
Point26,xy, , ,in, deg, , ,N, , ,W, grid, , , ,N
Point27,xy, , ,in, deg, , ,N, , ,W, grid, , , ,N
Point28,xy, , ,in, deg, , ,N, , ,W, grid, , , ,N
Point29,xy, , ,in, deg, , ,N, , ,W, grid, , , ,N
Point30,xy, , ,in, deg, , ,N, , ,W, grid, , , ,N
Projection Setup, 0.000000000, 33.000000000, 1.000000000, 6500000.00, 0.00,,,,,
Map Feature = MF ; Map Comment = MC These follow if they exist
Track File = TF These follow if they exist
Moving Map Parameters = MM? These follow if they exist
MM0,Yes
MMPNUM,4
MMPXY,1,168,258
MMPXY,2,3887,260
MMPXY,3,3902,4641
MMPXY,4,156,4642
MMPLL,1,30.500007,56.000071
MMPLL,2,31.000140,55.999961
MMPLL,3,30.999610,55.666788
MMPLL,4,30.500137,55.666704
MM1B,8.385003
MOP,Map Open Position,0,0
IWH,Map Image Width/Height,4053,5078
