OziExplorer Map Data File Version 2.2
N-36-001 Межа
C:\strorry\Maps\Genshtab_1k\n-36-001.ozfx3
1 ,Map Code,
Pulkovo 1942 (1),WGS 84, 0.0000, 0.0000,WGS 84
Reserved 1
Reserved 2
Magnetic Variation,,,E
Map Projection,Transverse Mercator,PolyCal,No,AutoCalOnly,No,BSBUseWPX,No
Point01,xy, 161, 254,in, deg, 56, 0.0000,N, 30, 0.0000,E, grid, , , ,N
Point02,xy, 3884, 256,in, deg, 56, 0.0000,N, 30, 30.0000,E, grid, , , ,N
Point03,xy, 3894, 4646,in, deg, 55, 40.0000,N, 30, 30.0000,E, grid, , , ,N
Point04,xy, 145, 4640,in, deg, 55, 40.0000,N, 30, 0.0000,E, grid, , , ,N
Point05,xy, 2025, 2450,in, deg, 55, 50.0000,N, 30, 15.0000,E, grid, , , ,N
Point06,xy, 2025, 255,in, deg, 56, 0.0000,N, 30, 15.0000,E, grid, , , ,N
Point07,xy, 154, 2444,in, deg, 55, 50.0000,N, 30, 0.0000,E, grid, , , ,N
Point08,xy, 3889, 2454,in, deg, 55, 50.0000,N, 30, 30.0000,E, grid, , , ,N
Point09,xy, 2019, 4647,in, deg, 55, 40.0000,N, 30, 15.0000,E, grid, , , ,N
Point10,xy, , ,in, deg, , ,N, , ,W, grid, , , ,N
Point11,xy, , ,in, deg, , ,N, , ,W, grid, , , ,N
Point12,xy, , ,in, deg, , ,N, , ,W, grid, , , ,N
Point13,xy, , ,in, deg, , ,N, , ,W, grid, , , ,N
Point14,xy, , ,in, deg, , ,N, , ,W, grid, , , ,N
Point15,xy, , ,in, deg, , ,N, , ,W, grid, , , ,N
Point16,xy, , ,in, deg, , ,N, , ,W, grid, , , ,N
Point17,xy, , ,in, deg, , ,N, , ,W, grid, , , ,N
Point18,xy, , ,in, deg, , ,N, , ,W, grid, , , ,N
Point19,xy, , ,in, deg, , ,N, , ,W, grid, , , ,N
Point20,xy, , ,in, deg, , ,N, , ,W, grid, , , ,N
Point21,xy, , ,in, deg, , ,N, , ,W, grid, , , ,N
Point22,xy, , ,in, deg, , ,N, , ,W, grid, , , ,N
Point23,xy, , ,in, deg, , ,N, , ,W, grid, , , ,N
Point24,xy, , ,in, deg, , ,N, , ,W, grid, , , ,N
Point25,xy, , ,in, deg, , ,N, , ,W, grid, , , ,N
Point26,xy, , ,in, deg, , ,N, , ,W, grid, , , ,N
Point27,xy, , ,in, deg, , ,N, , ,W, grid, , , ,N
Point28,xy, , ,in, deg, , ,N, , ,W, grid, , , ,N
Point29,xy, , ,in, deg, , ,N, , ,W, grid, , , ,N
Point30,xy, , ,in, deg, , ,N, , ,W, grid, , , ,N
Projection Setup, 0.000000000, 33.000000000, 1.000000000, 6500000.00, 0.00,,,,,
Map Feature = MF ; Map Comment = MC These follow if they exist
Track File = TF These follow if they exist
Moving Map Parameters = MM? These follow if they exist
MM0,Yes
MMPNUM,4
MMPXY,1,161,254
MMPXY,2,3884,256
MMPXY,3,3895,4647
MMPXY,4,145,4640
MMPLL,1,29.999605,55.999743
MMPLL,2,30.500052,56.000069
MMPLL,3,30.499919,55.666588
MMPLL,4,30.000137,55.666684
MM1B,8.380592
MOP,Map Open Position,0,0
IWH,Map Image Width/Height,4047,5083
