OziExplorer Map Data File Version 2.2
N-35-141 Петриков
C:\strorry\Maps\Genshtab_1k\n-35-141.ozfx3
1 ,Map Code,
Pulkovo 1942 (1),WGS 84, 0.0000, 0.0000,WGS 84
Reserved 1
Reserved 2
Magnetic Variation,,,E
Map Projection,Transverse Mercator,PolyCal,No,AutoCalOnly,No,BSBUseWPX,No
Point01,xy, 162, 249,in, deg, 52, 20.0000,N, 28, 0.0000,E, grid, , , ,N
Point02,xy, 4223, 249,in, deg, 52, 20.0000,N, 28, 30.0000,E, grid, , , ,N
Point03,xy, 4241, 4629,in, deg, 52, 0.0000,N, 28, 30.0000,E, grid, , , ,N
Point04,xy, 146, 4625,in, deg, 52, 0.0000,N, 28, 0.0000,E, grid, , , ,N
Point05,xy, 2194, 2444,in, deg, 52, 10.0000,N, 28, 15.0000,E, grid, , , ,N
Point06,xy, 2193, 255,in, deg, 52, 20.0000,N, 28, 15.0000,E, grid, , , ,N
Point07,xy, 154, 2436,in, deg, 52, 10.0000,N, 28, 0.0000,E, grid, , , ,N
Point08,xy, 4233, 2442,in, deg, 52, 10.0000,N, 28, 30.0000,E, grid, , , ,N
Point09,xy, 2191, 4629,in, deg, 52, 0.0000,N, 28, 15.0000,E, grid, , , ,N
Point10,xy, , ,in, deg, , ,N, , ,W, grid, , , ,N
Point11,xy, , ,in, deg, , ,N, , ,W, grid, , , ,N
Point12,xy, , ,in, deg, , ,N, , ,W, grid, , , ,N
Point13,xy, , ,in, deg, , ,N, , ,W, grid, , , ,N
Point14,xy, , ,in, deg, , ,N, , ,W, grid, , , ,N
Point15,xy, , ,in, deg, , ,N, , ,W, grid, , , ,N
Point16,xy, , ,in, deg, , ,N, , ,W, grid, , , ,N
Point17,xy, , ,in, deg, , ,N, , ,W, grid, , , ,N
Point18,xy, , ,in, deg, , ,N, , ,W, grid, , , ,N
Point19,xy, , ,in, deg, , ,N, , ,W, grid, , , ,N
Point20,xy, , ,in, deg, , ,N, , ,W, grid, , , ,N
Point21,xy, , ,in, deg, , ,N, , ,W, grid, , , ,N
Point22,xy, , ,in, deg, , ,N, , ,W, grid, , , ,N
Point23,xy, , ,in, deg, , ,N, , ,W, grid, , , ,N
Point24,xy, , ,in, deg, , ,N, , ,W, grid, , , ,N
Point25,xy, , ,in, deg, , ,N, , ,W, grid, , , ,N
Point26,xy, , ,in, deg, , ,N, , ,W, grid, , , ,N
Point27,xy, , ,in, deg, , ,N, , ,W, grid, , , ,N
Point28,xy, , ,in, deg, , ,N, , ,W, grid, , , ,N
Point29,xy, , ,in, deg, , ,N, , ,W, grid, , , ,N
Point30,xy, , ,in, deg, , ,N, , ,W, grid, , , ,N
Projection Setup, 0.000000000, 27.000000000, 1.000000000, 5500000.00, 0.00,,,,,
Map Feature = MF ; Map Comment = MC These follow if they exist
Track File = TF These follow if they exist
Moving Map Parameters = MM? These follow if they exist
MM0,Yes
MMPNUM,4
MMPXY,1,162,249
MMPXY,2,4223,250
MMPXY,3,4240,4629
MMPXY,4,147,4628
MMPLL,1,28.000068,52.333310
MMPLL,2,28.499811,52.333475
MMPLL,3,28.500026,51.999977
MMPLL,4,28.000097,51.999786
MM1B,8.384691
MOP,Map Open Position,0,0
IWH,Map Image Width/Height,4385,5067
