OziExplorer Map Data File Version 2.2
N-35-140 Житковичи
C:\strorry\Maps\Genshtab_1k\n-35-140.ozfx3
1 ,Map Code,
Pulkovo 1942 (1),WGS 84, 0.0000, 0.0000,WGS 84
Reserved 1
Reserved 2
Magnetic Variation,,,E
Map Projection,Transverse Mercator,PolyCal,No,AutoCalOnly,No,BSBUseWPX,No
Point01,xy, 138, 256,in, deg, 52, 20.0000,N, 27, 30.0000,E, grid, , , ,N
Point02,xy, 4199, 258,in, deg, 52, 20.0000,N, 28, 0.0000,E, grid, , , ,N
Point03,xy, 4217, 4639,in, deg, 52, 0.0000,N, 28, 0.0000,E, grid, , , ,N
Point04,xy, 124, 4636,in, deg, 52, 0.0000,N, 27, 30.0000,E, grid, , , ,N
Point05,xy, 2169, 2451,in, deg, 52, 10.0000,N, 27, 45.0000,E, grid, , , ,N
Point06,xy, 2170, 262,in, deg, 52, 20.0000,N, 27, 45.0000,E, grid, , , ,N
Point07,xy, 130, 2447,in, deg, 52, 10.0000,N, 27, 30.0000,E, grid, , , ,N
Point08,xy, 4209, 2450,in, deg, 52, 10.0000,N, 28, 0.0000,E, grid, , , ,N
Point09,xy, 2169, 4643,in, deg, 52, 0.0000,N, 27, 45.0000,E, grid, , , ,N
Point10,xy, , ,in, deg, , ,N, , ,W, grid, , , ,N
Point11,xy, , ,in, deg, , ,N, , ,W, grid, , , ,N
Point12,xy, , ,in, deg, , ,N, , ,W, grid, , , ,N
Point13,xy, , ,in, deg, , ,N, , ,W, grid, , , ,N
Point14,xy, , ,in, deg, , ,N, , ,W, grid, , , ,N
Point15,xy, , ,in, deg, , ,N, , ,W, grid, , , ,N
Point16,xy, , ,in, deg, , ,N, , ,W, grid, , , ,N
Point17,xy, , ,in, deg, , ,N, , ,W, grid, , , ,N
Point18,xy, , ,in, deg, , ,N, , ,W, grid, , , ,N
Point19,xy, , ,in, deg, , ,N, , ,W, grid, , , ,N
Point20,xy, , ,in, deg, , ,N, , ,W, grid, , , ,N
Point21,xy, , ,in, deg, , ,N, , ,W, grid, , , ,N
Point22,xy, , ,in, deg, , ,N, , ,W, grid, , , ,N
Point23,xy, , ,in, deg, , ,N, , ,W, grid, , , ,N
Point24,xy, , ,in, deg, , ,N, , ,W, grid, , , ,N
Point25,xy, , ,in, deg, , ,N, , ,W, grid, , , ,N
Point26,xy, , ,in, deg, , ,N, , ,W, grid, , , ,N
Point27,xy, , ,in, deg, , ,N, , ,W, grid, , , ,N
Point28,xy, , ,in, deg, , ,N, , ,W, grid, , , ,N
Point29,xy, , ,in, deg, , ,N, , ,W, grid, , , ,N
Point30,xy, , ,in, deg, , ,N, , ,W, grid, , , ,N
Projection Setup, 0.000000000, 27.000000000, 1.000000000, 5500000.00, 0.00,,,,,
Map Feature = MF ; Map Comment = MC These follow if they exist
Track File = TF These follow if they exist
Moving Map Parameters = MM? These follow if they exist
MM0,Yes
MMPNUM,4
MMPXY,1,139,256
MMPXY,2,4199,259
MMPXY,3,4217,4638
MMPXY,4,124,4636
MMPLL,1,27.500156,52.333359
MMPLL,2,27.999858,52.333325
MMPLL,3,28.000075,52.000126
MMPLL,4,27.500062,52.000068
MM1B,8.386446
MOP,Map Open Position,0,0
IWH,Map Image Width/Height,4339,5075
