OziExplorer Map Data File Version 2.2
N-35-137 Οθνρκ
C:\strorry\Maps\Genshtab_1k\n-35-137.ozfx3
1 ,Map Code,
Pulkovo 1942 (1),WGS 84, 0.0000, 0.0000,WGS 84
Reserved 1
Reserved 2
Magnetic Variation,,,E
Map Projection,Transverse Mercator,PolyCal,No,AutoCalOnly,No,BSBUseWPX,No
Point01,xy, 141, 256,in, deg, 52, 20.0000,N, 26, 0.0000,E, grid, , , ,N
Point02,xy, 4206, 258,in, deg, 52, 20.0000,N, 26, 30.0000,E, grid, , , ,N
Point03,xy, 4220, 4644,in, deg, 52, 0.0000,N, 26, 30.0000,E, grid, , , ,N
Point04,xy, 125, 4638,in, deg, 52, 0.0000,N, 26, 0.0000,E, grid, , , ,N
Point05,xy, 2174, 2449,in, deg, 52, 10.0000,N, 26, 15.0000,E, grid, , , ,N
Point06,xy, 2174, 259,in, deg, 52, 20.0000,N, 26, 15.0000,E, grid, , , ,N
Point07,xy, 133, 2447,in, deg, 52, 10.0000,N, 26, 0.0000,E, grid, , , ,N
Point08,xy, 4215, 2450,in, deg, 52, 10.0000,N, 26, 30.0000,E, grid, , , ,N
Point09,xy, 2173, 4644,in, deg, 52, 0.0000,N, 26, 15.0000,E, grid, , , ,N
Point10,xy, , ,in, deg, , ,N, , ,W, grid, , , ,N
Point11,xy, , ,in, deg, , ,N, , ,W, grid, , , ,N
Point12,xy, , ,in, deg, , ,N, , ,W, grid, , , ,N
Point13,xy, , ,in, deg, , ,N, , ,W, grid, , , ,N
Point14,xy, , ,in, deg, , ,N, , ,W, grid, , , ,N
Point15,xy, , ,in, deg, , ,N, , ,W, grid, , , ,N
Point16,xy, , ,in, deg, , ,N, , ,W, grid, , , ,N
Point17,xy, , ,in, deg, , ,N, , ,W, grid, , , ,N
Point18,xy, , ,in, deg, , ,N, , ,W, grid, , , ,N
Point19,xy, , ,in, deg, , ,N, , ,W, grid, , , ,N
Point20,xy, , ,in, deg, , ,N, , ,W, grid, , , ,N
Point21,xy, , ,in, deg, , ,N, , ,W, grid, , , ,N
Point22,xy, , ,in, deg, , ,N, , ,W, grid, , , ,N
Point23,xy, , ,in, deg, , ,N, , ,W, grid, , , ,N
Point24,xy, , ,in, deg, , ,N, , ,W, grid, , , ,N
Point25,xy, , ,in, deg, , ,N, , ,W, grid, , , ,N
Point26,xy, , ,in, deg, , ,N, , ,W, grid, , , ,N
Point27,xy, , ,in, deg, , ,N, , ,W, grid, , , ,N
Point28,xy, , ,in, deg, , ,N, , ,W, grid, , , ,N
Point29,xy, , ,in, deg, , ,N, , ,W, grid, , , ,N
Point30,xy, , ,in, deg, , ,N, , ,W, grid, , , ,N
Projection Setup, 0.000000000, 27.000000000, 1.000000000, 5500000.00, 0.00,,,,,
Map Feature = MF ; Map Comment = MC These follow if they exist
Track File = TF These follow if they exist
Moving Map Parameters = MM? These follow if they exist
MM0,Yes
MMPNUM,4
MMPXY,1,141,256
MMPXY,2,4207,258
MMPXY,3,4220,4644
MMPXY,4,125,4639
MMPLL,1,25.999971,52.333199
MMPLL,2,26.500043,52.333332
MMPLL,3,26.499889,51.999866
MMPLL,4,26.000001,51.999973
MM1B,8.380418
MOP,Map Open Position,0,0
IWH,Map Image Width/Height,4344,5071
