OziExplorer Map Data File Version 2.2
N-35-135 Дрогичин
C:\strorry\Maps\Genshtab_1k\n-35-135.ozfx3
1 ,Map Code,
Pulkovo 1942 (1),WGS 84, 0.0000, 0.0000,WGS 84
Reserved 1
Reserved 2
Magnetic Variation,,,E
Map Projection,Transverse Mercator,PolyCal,No,AutoCalOnly,No,BSBUseWPX,No
Point01,xy, 162, 259,in, deg, 52, 20.0000,N, 25, 0.0000,E, grid, , , ,N
Point02,xy, 4226, 258,in, deg, 52, 20.0000,N, 25, 30.0000,E, grid, , , ,N
Point03,xy, 4245, 4645,in, deg, 52, 0.0000,N, 25, 30.0000,E, grid, , , ,N
Point04,xy, 148, 4645,in, deg, 52, 0.0000,N, 25, 0.0000,E, grid, , , ,N
Point05,xy, 2196, 2457,in, deg, 52, 10.0000,N, 25, 15.0000,E, grid, , , ,N
Point06,xy, 2196, 264,in, deg, 52, 20.0000,N, 25, 15.0000,E, grid, , , ,N
Point07,xy, 155, 2449,in, deg, 52, 10.0000,N, 25, 0.0000,E, grid, , , ,N
Point08,xy, 4236, 2453,in, deg, 52, 10.0000,N, 25, 30.0000,E, grid, , , ,N
Point09,xy, 2198, 4647,in, deg, 52, 0.0000,N, 25, 15.0000,E, grid, , , ,N
Point10,xy, , ,in, deg, , ,N, , ,W, grid, , , ,N
Point11,xy, , ,in, deg, , ,N, , ,W, grid, , , ,N
Point12,xy, , ,in, deg, , ,N, , ,W, grid, , , ,N
Point13,xy, , ,in, deg, , ,N, , ,W, grid, , , ,N
Point14,xy, , ,in, deg, , ,N, , ,W, grid, , , ,N
Point15,xy, , ,in, deg, , ,N, , ,W, grid, , , ,N
Point16,xy, , ,in, deg, , ,N, , ,W, grid, , , ,N
Point17,xy, , ,in, deg, , ,N, , ,W, grid, , , ,N
Point18,xy, , ,in, deg, , ,N, , ,W, grid, , , ,N
Point19,xy, , ,in, deg, , ,N, , ,W, grid, , , ,N
Point20,xy, , ,in, deg, , ,N, , ,W, grid, , , ,N
Point21,xy, , ,in, deg, , ,N, , ,W, grid, , , ,N
Point22,xy, , ,in, deg, , ,N, , ,W, grid, , , ,N
Point23,xy, , ,in, deg, , ,N, , ,W, grid, , , ,N
Point24,xy, , ,in, deg, , ,N, , ,W, grid, , , ,N
Point25,xy, , ,in, deg, , ,N, , ,W, grid, , , ,N
Point26,xy, , ,in, deg, , ,N, , ,W, grid, , , ,N
Point27,xy, , ,in, deg, , ,N, , ,W, grid, , , ,N
Point28,xy, , ,in, deg, , ,N, , ,W, grid, , , ,N
Point29,xy, , ,in, deg, , ,N, , ,W, grid, , , ,N
Point30,xy, , ,in, deg, , ,N, , ,W, grid, , , ,N
Projection Setup, 0.000000000, 27.000000000, 1.000000000, 5500000.00, 0.00,,,,,
Map Feature = MF ; Map Comment = MC These follow if they exist
Track File = TF These follow if they exist
Moving Map Parameters = MM? These follow if they exist
MM0,Yes
MMPNUM,4
MMPXY,1,162,259
MMPXY,2,4226,258
MMPXY,3,4245,4645
MMPXY,4,150,4645
MMPLL,1,25.000012,52.333299
MMPLL,2,25.499839,52.333468
MMPLL,3,25.500012,51.999991
MMPLL,4,25.000124,51.999932
MM1B,8.379597
MOP,Map Open Position,0,0
IWH,Map Image Width/Height,4399,5078
