OziExplorer Map Data File Version 2.2
N-35-133 Кобрин
C:\strorry\Maps\Genshtab_1k\n-35-133.ozfx3
1 ,Map Code,
Pulkovo 1942 (1),WGS 84, 0.0000, 0.0000,WGS 84
Reserved 1
Reserved 2
Magnetic Variation,,,E
Map Projection,Transverse Mercator,PolyCal,No,AutoCalOnly,No,BSBUseWPX,No
Point01,xy, 166, 260,in, deg, 52, 20.0000,N, 24, 0.0000,E, grid, , , ,N
Point02,xy, 4234, 262,in, deg, 52, 20.0000,N, 24, 30.0000,E, grid, , , ,N
Point03,xy, 4245, 4647,in, deg, 52, 0.0000,N, 24, 30.0000,E, grid, , , ,N
Point04,xy, 152, 4644,in, deg, 52, 0.0000,N, 24, 0.0000,E, grid, , , ,N
Point05,xy, 2200, 2457,in, deg, 52, 10.0000,N, 24, 15.0000,E, grid, , , ,N
Point06,xy, 2200, 262,in, deg, 52, 20.0000,N, 24, 15.0000,E, grid, , , ,N
Point07,xy, 157, 2454,in, deg, 52, 10.0000,N, 24, 0.0000,E, grid, , , ,N
Point08,xy, 4242, 2455,in, deg, 52, 10.0000,N, 24, 30.0000,E, grid, , , ,N
Point09,xy, 2200, 4650,in, deg, 52, 0.0000,N, 24, 15.0000,E, grid, , , ,N
Point10,xy, , ,in, deg, , ,N, , ,W, grid, , , ,N
Point11,xy, , ,in, deg, , ,N, , ,W, grid, , , ,N
Point12,xy, , ,in, deg, , ,N, , ,W, grid, , , ,N
Point13,xy, , ,in, deg, , ,N, , ,W, grid, , , ,N
Point14,xy, , ,in, deg, , ,N, , ,W, grid, , , ,N
Point15,xy, , ,in, deg, , ,N, , ,W, grid, , , ,N
Point16,xy, , ,in, deg, , ,N, , ,W, grid, , , ,N
Point17,xy, , ,in, deg, , ,N, , ,W, grid, , , ,N
Point18,xy, , ,in, deg, , ,N, , ,W, grid, , , ,N
Point19,xy, , ,in, deg, , ,N, , ,W, grid, , , ,N
Point20,xy, , ,in, deg, , ,N, , ,W, grid, , , ,N
Point21,xy, , ,in, deg, , ,N, , ,W, grid, , , ,N
Point22,xy, , ,in, deg, , ,N, , ,W, grid, , , ,N
Point23,xy, , ,in, deg, , ,N, , ,W, grid, , , ,N
Point24,xy, , ,in, deg, , ,N, , ,W, grid, , , ,N
Point25,xy, , ,in, deg, , ,N, , ,W, grid, , , ,N
Point26,xy, , ,in, deg, , ,N, , ,W, grid, , , ,N
Point27,xy, , ,in, deg, , ,N, , ,W, grid, , , ,N
Point28,xy, , ,in, deg, , ,N, , ,W, grid, , , ,N
Point29,xy, , ,in, deg, , ,N, , ,W, grid, , , ,N
Point30,xy, , ,in, deg, , ,N, , ,W, grid, , , ,N
Projection Setup, 0.000000000, 27.000000000, 1.000000000, 5500000.00, 0.00,,,,,
Map Feature = MF ; Map Comment = MC These follow if they exist
Track File = TF These follow if they exist
Moving Map Parameters = MM? These follow if they exist
MM0,Yes
MMPNUM,4
MMPXY,1,166,261
MMPXY,2,4234,262
MMPXY,3,4245,4646
MMPXY,4,152,4645
MMPLL,1,23.999915,52.333210
MMPLL,2,24.500071,52.333312
MMPLL,3,24.499673,52.000080
MMPLL,4,24.000191,52.000030
MM1B,8.375565
MOP,Map Open Position,0,0
IWH,Map Image Width/Height,4400,5084
